Workbook
Name _ftnref1: '1. Table of Contents'!$C$17

Sheet 1. Table of Contents
B2: Tabs | C2: Tab Description
B3: 1. Table of Contents
B4: 2. FF1 Data
B5: 3. Total System Load Calc | C5: Calculation of the Transmission System Load utilizing the following formula: (4) + (5) + (6)
B6: 4. FNS Gross | C6: Black Hills Colorado Electric network load (4a) + the BHC Impacted Generation (4b)
B7: 4a. FNS | C7: Black Hills Colorado Electric network load (4a)
B8: 4b. FNS Impacted Gen | C8: Black Hills Colorado Electric Impacted Generation (4b)
B9: 5. FNO Gross | C9: Third party network load on the Black Hills Colorado Electric transmission system (5a) + Third party Impacted Generation (5b)
B10: 5a. FNO | C10: Third party network load on the Black Hills Colorado Electric transmission system (as reported by customers)
B11: 5b. FNO Impact Gen | C11: Third party aggregate Impacted Generation (as reported by customers)
B12: 6. LT PTP Usage | C12: Usage of LT PTP Reservations on the Black Hills Colorado Electric transmission system
B14: Brief Explanation of the Workpaper | C14: This workpaper shows development of the Transmission Provider's Monthly Transmission System Peak and includes Reconstituted Network Load consistent with Sections 1.23 and 1.52 of the OATT. This workpaper will be posted with Black Hills Colorado's projected net revenue requirement and Annual True-Up and provided with its annual Informational Filing. The workpaper determines the Transmission Providers’ monthly peak (hour), which include the following components: Firm Network Transmission Service for Self (“FNS”), Firm Network Service for Others (“FNO”), the usage of Long-Term Point-to-Point transmission service reservations, and posted transmission losses (“Monthly Transmission System Peak ”). The Company uses the Monthly System Peak to determine the timing of load measurement for network customers’ billings based on their respective coincident peak loads. The Terms FNS and FNO are as defined in the FERC Form No. 1. The Monthly System Peak is not the same as the rate divisor. Determination of the rate divisor occurs on Worksheet A6 of the transmission formula rate template.

Sheet 2. FF1 Data
B1: Peaks
B2: Month (a) | C2: Monthly Peak MW - Total (b) | D2: Day of Monthly Peak (c) | E2: Hour of Monthly Peak (d) | F2: Firm Network Service for Self (e) | G2: Firm Network Service for Others (f) | H2: Long-Term Firm Point-to-Point Usage (g) | I2: Impacted Gen Self (4b) | J2: Impacted Gen Others (5b)
B3: 44927 | C3: =+_xlfn.MAXIFS('3.Total System Load Calc'!AB:AB,'3.Total System Load Calc'!A:A,TEXT(B3,"Mmmm")) -> 294.88329 | D3: =+_xlfn.XLOOKUP((_xlfn.CONCAT(MONTH(B3),C3)),'3.Total System Load Calc'!AC:AC,'3.Total System Load Calc'!B:B,0,0) -> 46045 | E3: =+VLOOKUP(_xlfn.CONCAT(MONTH(B3),C3),'3.Total System Load Calc'!AC:AD,2,0) -> 18 | F3: =+VLOOKUP($D3,'4. FNS Gross'!$A:$Z,MATCH($E3,'4. FNS Gross'!$A$3:$Z$3,0),0) -> 277.604 | G3: =+VLOOKUP($D3,'5. FNO Gross'!$A:$Z,MATCH($E3,'5. FNO Gross'!$A$3:$Z$3,0),0) -> 15.279287 | H3: =+VLOOKUP($D3,'6. LT PTP Usage'!$A:$Z,MATCH($E3,'6. LT PTP Usage'!$A$3:$Z$3,0),0) -> 2 | I3: =+VLOOKUP($D3,'4b. FNS Impacted Gen'!$A:$Z,MATCH($E3,'4b. FNS Impacted Gen'!$A$3:$Z$3,0),0) -> 0.001 | J3: =+VLOOKUP($D3,'5b. FNO Impacted Gen'!$A:$Z,MATCH($E3,'5b. FNO Impacted Gen'!$A$3:$Z$3,0),0) -> 0
B4: 44958 | C4: =+_xlfn.MAXIFS('3.Total System Load Calc'!AB:AB,'3.Total System Load Calc'!A:A,TEXT(B4,"Mmmm")) -> 267.15727 | D4: =+_xlfn.XLOOKUP((_xlfn.CONCAT(MONTH(B4),C4)),'3.Total System Load Calc'!AC:AC,'3.Total System Load Calc'!B:B,0,0) -> 46064 | E4: =+VLOOKUP(_xlfn.CONCAT(MONTH(B4),C4),'3.Total System Load Calc'!AC:AD,2,0) -> 8 | F4: =+VLOOKUP($D4,'4. FNS Gross'!$A:$Z,MATCH($E4,'4. FNS Gross'!$A$3:$Z$3,0),0) -> 253.191 | G4: =+VLOOKUP($D4,'5. FNO Gross'!$A:$Z,MATCH($E4,'5. FNO Gross'!$A$3:$Z$3,0),0) -> 11.966271 | H4: =+VLOOKUP($D4,'6. LT PTP Usage'!$A:$Z,MATCH($E4,'6. LT PTP Usage'!$A$3:$Z$3,0),0) -> 2 | I4: =+VLOOKUP($D4,'4b. FNS Impacted Gen'!$A:$Z,MATCH($E4,'4b. FNS Impacted Gen'!$A$3:$Z$3,0),0) -> 0.522 | J4: =+VLOOKUP($D4,'5b. FNO Impacted Gen'!$A:$Z,MATCH($E4,'5b. FNO Impacted Gen'!$A$3:$Z$3,0),0) -> 0
B5: 44986 | C5: =+_xlfn.MAXIFS('3.Total System Load Calc'!AB:AB,'3.Total System Load Calc'!A:A,TEXT(B5,"Mmmm")) -> 292.90465 | D5: =+_xlfn.XLOOKUP((_xlfn.CONCAT(MONTH(B5),C5)),'3.Total System Load Calc'!AC:AC,'3.Total System Load Calc'!B:B,0,0) -> 46106 | E5: =+VLOOKUP(_xlfn.CONCAT(MONTH(B5),C5),'3.Total System Load Calc'!AC:AD,2,0) -> 19 | F5: =+VLOOKUP($D5,'4. FNS Gross'!$A:$Z,MATCH($E5,'4. FNS Gross'!$A$3:$Z$3,0),0) -> 281.739 | G5: =+VLOOKUP($D5,'5. FNO Gross'!$A:$Z,MATCH($E5,'5. FNO Gross'!$A$3:$Z$3,0),0) -> 10.165647 | H5: =+VLOOKUP($D5,'6. LT PTP Usage'!$A:$Z,MATCH($E5,'6. LT PTP Usage'!$A$3:$Z$3,0),0) -> 1 | I5: =+VLOOKUP($D5,'4b. FNS Impacted Gen'!$A:$Z,MATCH($E5,'4b. FNS Impacted Gen'!$A$3:$Z$3,0),0) -> 1.071 | J5: =+VLOOKUP($D5,'5b. FNO Impacted Gen'!$A:$Z,MATCH($E5,'5b. FNO Impacted Gen'!$A$3:$Z$3,0),0) -> 0
B6: 45017 | C6: =+_xlfn.MAXIFS('3.Total System Load Calc'!AB:AB,'3.Total System Load Calc'!A:A,TEXT(B6,"Mmmm")) -> 280.58416 | D6: =+_xlfn.XLOOKUP((_xlfn.CONCAT(MONTH(B6),C6)),'3.Total System Load Calc'!AC:AC,'3.Total System Load Calc'!B:B,0,0) -> 46133 | E6: =+VLOOKUP(_xlfn.CONCAT(MONTH(B6),C6),'3.Total System Load Calc'!AC:AD,2,0) -> 19 | F6: =+VLOOKUP($D6,'4. FNS Gross'!$A:$Z,MATCH($E6,'4. FNS Gross'!$A$3:$Z$3,0),0) -> 269.571 | G6: =+VLOOKUP($D6,'5. FNO Gross'!$A:$Z,MATCH($E6,'5. FNO Gross'!$A$3:$Z$3,0),0) -> 10.013159 | H6: =+VLOOKUP($D6,'6. LT PTP Usage'!$A:$Z,MATCH($E6,'6. LT PTP Usage'!$A$3:$Z$3,0),0) -> 1 | I6: =+VLOOKUP($D6,'4b. FNS Impacted Gen'!$A:$Z,MATCH($E6,'4b. FNS Impacted Gen'!$A$3:$Z$3,0),0) -> 1.98 | J6: =+VLOOKUP($D6,'5b. FNO Impacted Gen'!$A:$Z,MATCH($E6,'5b. FNO Impacted Gen'!$A$3:$Z$3,0),0) -> 0
B7: 45047 | C7: =+_xlfn.MAXIFS('3.Total System Load Calc'!AB:AB,'3.Total System Load Calc'!A:A,TEXT(B7,"Mmmm")) -> 322.99969 | D7: =+_xlfn.XLOOKUP((_xlfn.CONCAT(MONTH(B7),C7)),'3.Total System Load Calc'!AC:AC,'3.Total System Load Calc'!B:B,0,0) -> 46157 | E7: =+VLOOKUP(_xlfn.CONCAT(MONTH(B7),C7),'3.Total System Load Calc'!AC:AD,2,0) -> 19 | F7: =+VLOOKUP($D7,'4. FNS Gross'!$A:$Z,MATCH($E7,'4. FNS Gross'!$A$3:$Z$3,0),0) -> 309.885 | G7: =+VLOOKUP($D7,'5. FNO Gross'!$A:$Z,MATCH($E7,'5. FNO Gross'!$A$3:$Z$3,0),0) -> 11.114689 | H7: =+VLOOKUP($D7,'6. LT PTP Usage'!$A:$Z,MATCH($E7,'6. LT PTP Usage'!$A$3:$Z$3,0),0) -> 2 | I7: =+VLOOKUP($D7,'4b. FNS Impacted Gen'!$A:$Z,MATCH($E7,'4b. FNS Impacted Gen'!$A$3:$Z$3,0),0) -> 2.364 | J7: =+VLOOKUP($D7,'5b. FNO Impacted Gen'!$A:$Z,MATCH($E7,'5b. FNO Impacted Gen'!$A$3:$Z$3,0),0) -> 0
B8: 45078 | C8: =+_xlfn.MAXIFS('3.Total System Load Calc'!AB:AB,'3.Total System Load Calc'!A:A,TEXT(B8,"Mmmm")) -> 402.27417 | D8: =+_xlfn.XLOOKUP((_xlfn.CONCAT(MONTH(B8),C8)),'3.Total System Load Calc'!AC:AC,'3.Total System Load Calc'!B:B,0,0) -> 46190 | E8: =+VLOOKUP(_xlfn.CONCAT(MONTH(B8),C8),'3.Total System Load Calc'!AC:AD,2,0) -> 19 | F8: =+VLOOKUP($D8,'4. FNS Gross'!$A:$Z,MATCH($E8,'4. FNS Gross'!$A$3:$Z$3,0),0) -> 387.941 | G8: =+VLOOKUP($D8,'5. FNO Gross'!$A:$Z,MATCH($E8,'5. FNO Gross'!$A$3:$Z$3,0),0) -> 13.333169 | H8: =+VLOOKUP($D8,'6. LT PTP Usage'!$A:$Z,MATCH($E8,'6. LT PTP Usage'!$A$3:$Z$3,0),0) -> 1 | I8: =+VLOOKUP($D8,'4b. FNS Impacted Gen'!$A:$Z,MATCH($E8,'4b. FNS Impacted Gen'!$A$3:$Z$3,0),0) -> 2.338 | J8: =+VLOOKUP($D8,'5b. FNO Impacted Gen'!$A:$Z,MATCH($E8,'5b. FNO Impacted Gen'!$A$3:$Z$3,0),0) -> 0
B9: 45108 | C9: =+_xlfn.MAXIFS('3.Total System Load Calc'!AB:AB,'3.Total System Load Calc'!A:A,TEXT(B9,"Mmmm")) -> 441.81659 | D9: =+_xlfn.XLOOKUP((_xlfn.CONCAT(MONTH(B9),C9)),'3.Total System Load Calc'!AC:AC,'3.Total System Load Calc'!B:B,0,0) -> 46229 | E9: =+VLOOKUP(_xlfn.CONCAT(MONTH(B9),C9),'3.Total System Load Calc'!AC:AD,2,0) -> 18 | F9: =+VLOOKUP($D9,'4. FNS Gross'!$A:$Z,MATCH($E9,'4. FNS Gross'!$A$3:$Z$3,0),0) -> 424.984 | G9: =+VLOOKUP($D9,'5. FNO Gross'!$A:$Z,MATCH($E9,'5. FNO Gross'!$A$3:$Z$3,0),0) -> 15.832586 | H9: =+VLOOKUP($D9,'6. LT PTP Usage'!$A:$Z,MATCH($E9,'6. LT PTP Usage'!$A$3:$Z$3,0),0) -> 1 | I9: =+VLOOKUP($D9,'4b. FNS Impacted Gen'!$A:$Z,MATCH($E9,'4b. FNS Impacted Gen'!$A$3:$Z$3,0),0) -> 3.72 | J9: =+VLOOKUP($D9,'5b. FNO Impacted Gen'!$A:$Z,MATCH($E9,'5b. FNO Impacted Gen'!$A$3:$Z$3,0),0) -> 0
B10: 45139 | C10: =+_xlfn.MAXIFS('3.Total System Load Calc'!AB:AB,'3.Total System Load Calc'!A:A,TEXT(B10,"Mmmm")) -> 426.37261 | D10: =+_xlfn.XLOOKUP((_xlfn.CONCAT(MONTH(B10),C10)),'3.Total System Load Calc'!AC:AC,'3.Total System Load Calc'!B:B,0,0) -> 46237 | E10: =+VLOOKUP(_xlfn.CONCAT(MONTH(B10),C10),'3.Total System Load Calc'!AC:AD,2,0) -> 18 | F10: =+VLOOKUP($D10,'4. FNS Gross'!$A:$Z,MATCH($E10,'4. FNS Gross'!$A$3:$Z$3,0),0) -> 410.238 | G10: =+VLOOKUP($D10,'5. FNO Gross'!$A:$Z,MATCH($E10,'5. FNO Gross'!$A$3:$Z$3,0),0) -> 15.134614 | H10: =+VLOOKUP($D10,'6. LT PTP Usage'!$A:$Z,MATCH($E10,'6. LT PTP Usage'!$A$3:$Z$3,0),0) -> 1 | I10: =+VLOOKUP($D10,'4b. FNS Impacted Gen'!$A:$Z,MATCH($E10,'4b. FNS Impacted Gen'!$A$3:$Z$3,0),0) -> 2.601 | J10: =+VLOOKUP($D10,'5b. FNO Impacted Gen'!$A:$Z,MATCH($E10,'5b. FNO Impacted Gen'!$A$3:$Z$3,0),0) -> 0
B11: 45170 | C11: =+_xlfn.MAXIFS('3.Total System Load Calc'!AB:AB,'3.Total System Load Calc'!A:A,TEXT(B11,"Mmmm")) -> 0 | D11: =+_xlfn.XLOOKUP((_xlfn.CONCAT(MONTH(B11),C11)),'3.Total System Load Calc'!AC:AC,'3.Total System Load Calc'!B:B,0,0) -> 46266 | E11: =+VLOOKUP(_xlfn.CONCAT(MONTH(B11),C11),'3.Total System Load Calc'!AC:AD,2,0) -> 1 | F11: =+VLOOKUP($D11,'4. FNS Gross'!$A:$Z,MATCH($E11,'4. FNS Gross'!$A$3:$Z$3,0),0) -> 0 | G11: =+VLOOKUP($D11,'5. FNO Gross'!$A:$Z,MATCH($E11,'5. FNO Gross'!$A$3:$Z$3,0),0) -> 0 | H11: =+VLOOKUP($D11,'6. LT PTP Usage'!$A:$Z,MATCH($E11,'6. LT PTP Usage'!$A$3:$Z$3,0),0) -> 0 | I11: =+VLOOKUP($D11,'4b. FNS Impacted Gen'!$A:$Z,MATCH($E11,'4b. FNS Impacted Gen'!$A$3:$Z$3,0),0) -> 0 | J11: =+VLOOKUP($D11,'5b. FNO Impacted Gen'!$A:$Z,MATCH($E11,'5b. FNO Impacted Gen'!$A$3:$Z$3,0),0) -> 0
B12: 45200 | C12: =+_xlfn.MAXIFS('3.Total System Load Calc'!AB:AB,'3.Total System Load Calc'!A:A,TEXT(B12,"Mmmm")) -> 0 | D12: =+_xlfn.XLOOKUP((_xlfn.CONCAT(MONTH(B12),C12)),'3.Total System Load Calc'!AC:AC,'3.Total System Load Calc'!B:B,0,0) -> 46296 | E12: =+VLOOKUP(_xlfn.CONCAT(MONTH(B12),C12),'3.Total System Load Calc'!AC:AD,2,0) -> 1 | F12: =+VLOOKUP($D12,'4. FNS Gross'!$A:$Z,MATCH($E12,'4. FNS Gross'!$A$3:$Z$3,0),0) -> 0 | G12: =+VLOOKUP($D12,'5. FNO Gross'!$A:$Z,MATCH($E12,'5. FNO Gross'!$A$3:$Z$3,0),0) -> 0 | H12: =+VLOOKUP($D12,'6. LT PTP Usage'!$A:$Z,MATCH($E12,'6. LT PTP Usage'!$A$3:$Z$3,0),0) -> 0 | I12: =+VLOOKUP($D12,'4b. FNS Impacted Gen'!$A:$Z,MATCH($E12,'4b. FNS Impacted Gen'!$A$3:$Z$3,0),0) -> 0 | J12: =+VLOOKUP($D12,'5b. FNO Impacted Gen'!$A:$Z,MATCH($E12,'5b. FNO Impacted Gen'!$A$3:$Z$3,0),0) -> 0
B13: 45231 | C13: =+_xlfn.MAXIFS('3.Total System Load Calc'!AB:AB,'3.Total System Load Calc'!A:A,TEXT(B13,"Mmmm")) -> 0 | D13: =+_xlfn.XLOOKUP((_xlfn.CONCAT(MONTH(B13),C13)),'3.Total System Load Calc'!AC:AC,'3.Total System Load Calc'!B:B,0,0) -> 46327 | E13: =+VLOOKUP(_xlfn.CONCAT(MONTH(B13),C13),'3.Total System Load Calc'!AC:AD,2,0) -> 1 | F13: =+VLOOKUP($D13,'4. FNS Gross'!$A:$Z,MATCH($E13,'4. FNS Gross'!$A$3:$Z$3,0),0) -> 0 | G13: =+VLOOKUP($D13,'5. FNO Gross'!$A:$Z,MATCH($E13,'5. FNO Gross'!$A$3:$Z$3,0),0) -> 0 | H13: =+VLOOKUP($D13,'6. LT PTP Usage'!$A:$Z,MATCH($E13,'6. LT PTP Usage'!$A$3:$Z$3,0),0) -> 0 | I13: =+VLOOKUP($D13,'4b. FNS Impacted Gen'!$A:$Z,MATCH($E13,'4b. FNS Impacted Gen'!$A$3:$Z$3,0),0) -> 0 | J13: =+VLOOKUP($D13,'5b. FNO Impacted Gen'!$A:$Z,MATCH($E13,'5b. FNO Impacted Gen'!$A$3:$Z$3,0),0) -> 0
B14: 45261 | C14: =+_xlfn.MAXIFS('3.Total System Load Calc'!AB:AB,'3.Total System Load Calc'!A:A,TEXT(B14,"Mmmm")) -> 0 | D14: =+_xlfn.XLOOKUP((_xlfn.CONCAT(MONTH(B14),C14)),'3.Total System Load Calc'!AC:AC,'3.Total System Load Calc'!B:B,0,0) -> 46357 | E14: =+VLOOKUP(_xlfn.CONCAT(MONTH(B14),C14),'3.Total System Load Calc'!AC:AD,2,0) -> 1 | F14: =+VLOOKUP($D14,'4. FNS Gross'!$A:$Z,MATCH($E14,'4. FNS Gross'!$A$3:$Z$3,0),0) -> 0 | G14: =+VLOOKUP($D14,'5. FNO Gross'!$A:$Z,MATCH($E14,'5. FNO Gross'!$A$3:$Z$3,0),0) -> 0 | H14: =+VLOOKUP($D14,'6. LT PTP Usage'!$A:$Z,MATCH($E14,'6. LT PTP Usage'!$A$3:$Z$3,0),0) -> 0 | I14: =+VLOOKUP($D14,'4b. FNS Impacted Gen'!$A:$Z,MATCH($E14,'4b. FNS Impacted Gen'!$A$3:$Z$3,0),0) -> 0 | J14: =+VLOOKUP($D14,'5b. FNO Impacted Gen'!$A:$Z,MATCH($E14,'5b. FNO Impacted Gen'!$A$3:$Z$3,0),0) -> 0
B17: **For 2022 FERC Form 1 data as reflected in Columns (e) and (f) have been modified to account for Impacted Generation, therefore Columns (b), (c), and (d) will also differ form the 2022 FF1; after 2022 impacted generation will be included in the network loads reported in FF1.
B19: **Please note Column (g) of this tab shows Long Term PTP usage which is used in the Monthly Transmission System Peak. The FERC Form 1 reports the full value of LT PTP Reservations
B21: ** Columns (4b) and (5b) are not included in the FF1 data and included only for informational purposes

Sheet 3.Total System Load Calc
B1: 3. Total System Load Manual Calc | H1: This is the aggregate of FNS Gross (tab 4) + FNS Gross (tab 5) + LT PTP Usage (tab 6)
B3: Date: | C3: 46023
B5: End Date | C5: 1 | D5: 2 | E5: 3 | F5: 4 | G5: 5 | H5: 6 | I5: 7 | J5: 8 | K5: 9 | L5: 10 | M5: 11 | N5: 12 | O5: 13 | P5: 14 | Q5: 15 | R5: 16 | S5: 17 | T5: 18 | U5: 19 | V5: 20 | W5: 21 | X5: 22 | Y5: 23 | Z5: 24 | AA5: 25 | AB5: Interval Max | AC5: Concat Month/Max | AD5: Hour for Max
A6: =+TEXT(B6,"Mmmm") -> January | B6: =C3 -> 46023 | C6: ='4. FNS Gross'!B4+'5. FNO Gross'!B4+'6. LT PTP Usage'!B4 -> 208.57359 | D6: ='4. FNS Gross'!C4+'5. FNO Gross'!C4+'6. LT PTP Usage'!C4 -> 204.1355 | E6: ='4. FNS Gross'!D4+'5. FNO Gross'!D4+'6. LT PTP Usage'!D4 -> 201.15446 | F6: ='4. FNS Gross'!E4+'5. FNO Gross'!E4+'6. LT PTP Usage'!E4 -> 201.03985 | G6: ='4. FNS Gross'!F4+'5. FNO Gross'!F4+'6. LT PTP Usage'!F4 -> 203.77838 | H6: ='4. FNS Gross'!G4+'5. FNO Gross'!G4+'6. LT PTP Usage'!G4 -> 207.25702 | I6: ='4. FNS Gross'!H4+'5. FNO Gross'!H4+'6. LT PTP Usage'!H4 -> 213.7171 | J6: ='4. FNS Gross'!I4+'5. FNO Gross'!I4+'6. LT PTP Usage'!I4 -> 217.79902 | ... AA6: ='4. FNS Gross'!Z4+'5. FNO Gross'!Z4+'6. LT PTP Usage'!Z4 -> 0 | AB6: =MAX(C6:AA6) -> 230.88316 | AC6: =+_xlfn.CONCAT(MONTH(B6),AB6) -> 1230.88316125 | AD6: =+_xlfn.XLOOKUP(AB6,C6:AA6,$C$5:$AA$5,0,0) -> 18
A7: =+TEXT(B7,"Mmmm") -> January | B7: =B6+1 -> 46024 | C7: ='4. FNS Gross'!B5+'5. FNO Gross'!B5+'6. LT PTP Usage'!B5 -> 197.58043 | D7: ='4. FNS Gross'!C5+'5. FNO Gross'!C5+'6. LT PTP Usage'!C5 -> 196.45875 | E7: ='4. FNS Gross'!D5+'5. FNO Gross'!D5+'6. LT PTP Usage'!D5 -> 195.36773 | F7: ='4. FNS Gross'!E5+'5. FNO Gross'!E5+'6. LT PTP Usage'!E5 -> 194.53053 | G7: ='4. FNS Gross'!F5+'5. FNO Gross'!F5+'6. LT PTP Usage'!F5 -> 202.39645 | H7: ='4. FNS Gross'!G5+'5. FNO Gross'!G5+'6. LT PTP Usage'!G5 -> 209.07201 | I7: ='4. FNS Gross'!H5+'5. FNO Gross'!H5+'6. LT PTP Usage'!H5 -> 221.87594 | J7: ='4. FNS Gross'!I5+'5. FNO Gross'!I5+'6. LT PTP Usage'!I5 -> 224.70886 | ... AA7: ='4. FNS Gross'!Z5+'5. FNO Gross'!Z5+'6. LT PTP Usage'!Z5 -> 0 | AB7: =MAX(C7:AA7) -> 237.61846 | AC7: =+_xlfn.CONCAT(MONTH(B7),AB7) -> 1237.61845551 | AD7: =+_xlfn.XLOOKUP(AB7,C7:AA7,$C$5:$AA$5,0,0) -> 18
A8: =+TEXT(B8,"Mmmm") -> January | B8: =B7+1 -> 46025 | C8: ='4. FNS Gross'!B6+'5. FNO Gross'!B6+'6. LT PTP Usage'!B6 -> 196.33143 | D8: ='4. FNS Gross'!C6+'5. FNO Gross'!C6+'6. LT PTP Usage'!C6 -> 194.41751 | E8: ='4. FNS Gross'!D6+'5. FNO Gross'!D6+'6. LT PTP Usage'!D6 -> 195.58144 | F8: ='4. FNS Gross'!E6+'5. FNO Gross'!E6+'6. LT PTP Usage'!E6 -> 195.52994 | G8: ='4. FNS Gross'!F6+'5. FNO Gross'!F6+'6. LT PTP Usage'!F6 -> 201.29651 | H8: ='4. FNS Gross'!G6+'5. FNO Gross'!G6+'6. LT PTP Usage'!G6 -> 207.27588 | I8: ='4. FNS Gross'!H6+'5. FNO Gross'!H6+'6. LT PTP Usage'!H6 -> 216.33319 | J8: ='4. FNS Gross'!I6+'5. FNO Gross'!I6+'6. LT PTP Usage'!I6 -> 221.41708 | ... AA8: ='4. FNS Gross'!Z6+'5. FNO Gross'!Z6+'6. LT PTP Usage'!Z6 -> 0 | AB8: =MAX(C8:AA8) -> 235.71711 | AC8: =+_xlfn.CONCAT(MONTH(B8),AB8) -> 1235.71711204 | AD8: =+_xlfn.SINGLE(_xlfn.XLOOKUP(AB8,C8:AA8,$C$5:$AA$5,0,0)) -> 18
A9: =+TEXT(B9,"Mmmm") -> January | B9: =B8+1 -> 46026 | C9: ='4. FNS Gross'!B7+'5. FNO Gross'!B7+'6. LT PTP Usage'!B7 -> 191.58724 | D9: ='4. FNS Gross'!C7+'5. FNO Gross'!C7+'6. LT PTP Usage'!C7 -> 189.76188 | E9: ='4. FNS Gross'!D7+'5. FNO Gross'!D7+'6. LT PTP Usage'!D7 -> 184.82544 | F9: ='4. FNS Gross'!E7+'5. FNO Gross'!E7+'6. LT PTP Usage'!E7 -> 185.79855 | G9: ='4. FNS Gross'!F7+'5. FNO Gross'!F7+'6. LT PTP Usage'!F7 -> 187.54311 | H9: ='4. FNS Gross'!G7+'5. FNO Gross'!G7+'6. LT PTP Usage'!G7 -> 193.72385 | I9: ='4. FNS Gross'!H7+'5. FNO Gross'!H7+'6. LT PTP Usage'!H7 -> 201.76034 | J9: ='4. FNS Gross'!I7+'5. FNO Gross'!I7+'6. LT PTP Usage'!I7 -> 203.91601 | ... AA9: ='4. FNS Gross'!Z7+'5. FNO Gross'!Z7+'6. LT PTP Usage'!Z7 -> 0 | AB9: =MAX(C9:AA9) -> 236.04131 | AC9: =+_xlfn.CONCAT(MONTH(B9),AB9) -> 1236.04131313 | AD9: =+_xlfn.SINGLE(_xlfn.XLOOKUP(AB9,C9:AA9,$C$5:$AA$5,0,0)) -> 19
A10: =+TEXT(B10,"Mmmm") -> January | B10: =B9+1 -> 46027 | C10: ='4. FNS Gross'!B8+'5. FNO Gross'!B8+'6. LT PTP Usage'!B8 -> 193.50126 | D10: ='4. FNS Gross'!C8+'5. FNO Gross'!C8+'6. LT PTP Usage'!C8 -> 192.31927 | E10: ='4. FNS Gross'!D8+'5. FNO Gross'!D8+'6. LT PTP Usage'!D8 -> 191.24812 | F10: ='4. FNS Gross'!E8+'5. FNO Gross'!E8+'6. LT PTP Usage'!E8 -> 192.47848 | G10: ='4. FNS Gross'!F8+'5. FNO Gross'!F8+'6. LT PTP Usage'!F8 -> 201.59651 | H10: ='4. FNS Gross'!G8+'5. FNO Gross'!G8+'6. LT PTP Usage'!G8 -> 211.41888 | I10: ='4. FNS Gross'!H8+'5. FNO Gross'!H8+'6. LT PTP Usage'!H8 -> 231.33309 | J10: ='4. FNS Gross'!I8+'5. FNO Gross'!I8+'6. LT PTP Usage'!I8 -> 237.54867 | ... AA10: ='4. FNS Gross'!Z8+'5. FNO Gross'!Z8+'6. LT PTP Usage'!Z8 -> 0 | AB10: =MAX(C10:AA10) -> 258.41109 | AC10: =+_xlfn.CONCAT(MONTH(B10),AB10) -> 1258.41109223 | AD10: =+_xlfn.SINGLE(_xlfn.XLOOKUP(AB10,C10:AA10,$C$5:$AA$5,0,0)) -> 18
A11: =+TEXT(B11,"Mmmm") -> January | B11: =B10+1 -> 46028 | C11: ='4. FNS Gross'!B9+'5. FNO Gross'!B9+'6. LT PTP Usage'!B9 -> 211.20137 | D11: ='4. FNS Gross'!C9+'5. FNO Gross'!C9+'6. LT PTP Usage'!C9 -> 208.85224 | E11: ='4. FNS Gross'!D9+'5. FNO Gross'!D9+'6. LT PTP Usage'!D9 -> 207.83477 | F11: ='4. FNS Gross'!E9+'5. FNO Gross'!E9+'6. LT PTP Usage'!E9 -> 199.33599 | G11: ='4. FNS Gross'!F9+'5. FNO Gross'!F9+'6. LT PTP Usage'!F9 -> 209.88081 | H11: ='4. FNS Gross'!G9+'5. FNO Gross'!G9+'6. LT PTP Usage'!G9 -> 220.34548 | I11: ='4. FNS Gross'!H9+'5. FNO Gross'!H9+'6. LT PTP Usage'!H9 -> 240.30409 | J11: ='4. FNS Gross'!I9+'5. FNO Gross'!I9+'6. LT PTP Usage'!I9 -> 244.23416 | ... AA11: ='4. FNS Gross'!Z9+'5. FNO Gross'!Z9+'6. LT PTP Usage'!Z9 -> 0 | AB11: =MAX(C11:AA11) -> 264.42666 | AC11: =+_xlfn.CONCAT(MONTH(B11),AB11) -> 1264.4266617 | AD11: =+_xlfn.SINGLE(_xlfn.XLOOKUP(AB11,C11:AA11,$C$5:$AA$5,0,0)) -> 18
A12: =+TEXT(B12,"Mmmm") -> January | B12: =B11+1 -> 46029 | C12: ='4. FNS Gross'!B10+'5. FNO Gross'!B10+'6. LT PTP Usage'!B10 -> 214.81481 | D12: ='4. FNS Gross'!C10+'5. FNO Gross'!C10+'6. LT PTP Usage'!C10 -> 214.21941 | E12: ='4. FNS Gross'!D10+'5. FNO Gross'!D10+'6. LT PTP Usage'!D10 -> 213.60522 | F12: ='4. FNS Gross'!E10+'5. FNO Gross'!E10+'6. LT PTP Usage'!E10 -> 212.94861 | G12: ='4. FNS Gross'!F10+'5. FNO Gross'!F10+'6. LT PTP Usage'!F10 -> 219.41881 | H12: ='4. FNS Gross'!G10+'5. FNO Gross'!G10+'6. LT PTP Usage'!G10 -> 231.52386 | I12: ='4. FNS Gross'!H10+'5. FNO Gross'!H10+'6. LT PTP Usage'!H10 -> 247.61691 | J12: ='4. FNS Gross'!I10+'5. FNO Gross'!I10+'6. LT PTP Usage'!I10 -> 255.86333 | ... AA12: ='4. FNS Gross'!Z10+'5. FNO Gross'!Z10+'6. LT PTP Usage'!Z10 -> 0 | AB12: =MAX(C12:AA12) -> 255.89465 | AC12: =+_xlfn.CONCAT(MONTH(B12),AB12) -> 1255.89464836 | AD12: =+_xlfn.SINGLE(_xlfn.XLOOKUP(AB12,C12:AA12,$C$5:$AA$5,0,0)) -> 18
A13: =+TEXT(B13,"Mmmm") -> January | B13: =B12+1 -> 46030 | C13: ='4. FNS Gross'!B11+'5. FNO Gross'!B11+'6. LT PTP Usage'!B11 -> 208.32205 | D13: ='4. FNS Gross'!C11+'5. FNO Gross'!C11+'6. LT PTP Usage'!C11 -> 202.37905 | E13: ='4. FNS Gross'!D11+'5. FNO Gross'!D11+'6. LT PTP Usage'!D11 -> 201.32538 | F13: ='4. FNS Gross'!E11+'5. FNO Gross'!E11+'6. LT PTP Usage'!E11 -> 201.62426 | G13: ='4. FNS Gross'!F11+'5. FNO Gross'!F11+'6. LT PTP Usage'!F11 -> 198.63843 | H13: ='4. FNS Gross'!G11+'5. FNO Gross'!G11+'6. LT PTP Usage'!G11 -> 213.59909 | I13: ='4. FNS Gross'!H11+'5. FNO Gross'!H11+'6. LT PTP Usage'!H11 -> 221.11278 | J13: ='4. FNS Gross'!I11+'5. FNO Gross'!I11+'6. LT PTP Usage'!I11 -> 231.21666 | ... AA13: ='4. FNS Gross'!Z11+'5. FNO Gross'!Z11+'6. LT PTP Usage'!Z11 -> 0 | AB13: =MAX(C13:AA13) -> 269.78799 | AC13: =+_xlfn.CONCAT(MONTH(B13),AB13) -> 1269.78798909 | AD13: =+_xlfn.SINGLE(_xlfn.XLOOKUP(AB13,C13:AA13,$C$5:$AA$5,0,0)) -> 19
A14: =+TEXT(B14,"Mmmm") -> January | B14: =B13+1 -> 46031 | C14: ='4. FNS Gross'!B12+'5. FNO Gross'!B12+'6. LT PTP Usage'!B12 -> 229.45492 | D14: ='4. FNS Gross'!C12+'5. FNO Gross'!C12+'6. LT PTP Usage'!C12 -> 225.90818 | E14: ='4. FNS Gross'!D12+'5. FNO Gross'!D12+'6. LT PTP Usage'!D12 -> 228.72301 | F14: ='4. FNS Gross'!E12+'5. FNO Gross'!E12+'6. LT PTP Usage'!E12 -> 226.40754 | G14: ='4. FNS Gross'!F12+'5. FNO Gross'!F12+'6. LT PTP Usage'!F12 -> 235.77269 | H14: ='4. FNS Gross'!G12+'5. FNO Gross'!G12+'6. LT PTP Usage'!G12 -> 241.81796 | I14: ='4. FNS Gross'!H12+'5. FNO Gross'!H12+'6. LT PTP Usage'!H12 -> 255.45455 | J14: ='4. FNS Gross'!I12+'5. FNO Gross'!I12+'6. LT PTP Usage'!I12 -> 263.79029 | ... AA14: ='4. FNS Gross'!Z12+'5. FNO Gross'!Z12+'6. LT PTP Usage'!Z12 -> 0 | AB14: =MAX(C14:AA14) -> 287.87305 | AC14: =+_xlfn.CONCAT(MONTH(B14),AB14) -> 1287.87305315 | AD14: =+_xlfn.SINGLE(_xlfn.XLOOKUP(AB14,C14:AA14,$C$5:$AA$5,0,0)) -> 19
A15: =+TEXT(B15,"Mmmm") -> January | B15: =B14+1 -> 46032 | C15: ='4. FNS Gross'!B13+'5. FNO Gross'!B13+'6. LT PTP Usage'!B13 -> 246.28681 | D15: ='4. FNS Gross'!C13+'5. FNO Gross'!C13+'6. LT PTP Usage'!C13 -> 243.56558 | E15: ='4. FNS Gross'!D13+'5. FNO Gross'!D13+'6. LT PTP Usage'!D13 -> 242.54568 | F15: ='4. FNS Gross'!E13+'5. FNO Gross'!E13+'6. LT PTP Usage'!E13 -> 235.33426 | G15: ='4. FNS Gross'!F13+'5. FNO Gross'!F13+'6. LT PTP Usage'!F13 -> 238.72419 | H15: ='4. FNS Gross'!G13+'5. FNO Gross'!G13+'6. LT PTP Usage'!G13 -> 245.55276 | I15: ='4. FNS Gross'!H13+'5. FNO Gross'!H13+'6. LT PTP Usage'!H13 -> 256.47552 | J15: ='4. FNS Gross'!I13+'5. FNO Gross'!I13+'6. LT PTP Usage'!I13 -> 264.33528 | ... AA15: ='4. FNS Gross'!Z13+'5. FNO Gross'!Z13+'6. LT PTP Usage'!Z13 -> 0 | AB15: =MAX(C15:AA15) -> 264.33528 | AC15: =+_xlfn.CONCAT(MONTH(B15),AB15) -> 1264.3352812 | AD15: =+_xlfn.SINGLE(_xlfn.XLOOKUP(AB15,C15:AA15,$C$5:$AA$5,0,0)) -> 8
A16: =+TEXT(B16,"Mmmm") -> January | B16: =B15+1 -> 46033 | C16: ='4. FNS Gross'!B14+'5. FNO Gross'!B14+'6. LT PTP Usage'!B14 -> 217.05708 | D16: ='4. FNS Gross'!C14+'5. FNO Gross'!C14+'6. LT PTP Usage'!C14 -> 212.68725 | E16: ='4. FNS Gross'!D14+'5. FNO Gross'!D14+'6. LT PTP Usage'!D14 -> 212.06851 | F16: ='4. FNS Gross'!E14+'5. FNO Gross'!E14+'6. LT PTP Usage'!E14 -> 211.06215 | G16: ='4. FNS Gross'!F14+'5. FNO Gross'!F14+'6. LT PTP Usage'!F14 -> 207.88927 | H16: ='4. FNS Gross'!G14+'5. FNO Gross'!G14+'6. LT PTP Usage'!G14 -> 218.24846 | I16: ='4. FNS Gross'!H14+'5. FNO Gross'!H14+'6. LT PTP Usage'!H14 -> 225.71227 | J16: ='4. FNS Gross'!I14+'5. FNO Gross'!I14+'6. LT PTP Usage'!I14 -> 231.70396 | ... AA16: ='4. FNS Gross'!Z14+'5. FNO Gross'!Z14+'6. LT PTP Usage'!Z14 -> 0 | AB16: =MAX(C16:AA16) -> 248.02021 | AC16: =+_xlfn.CONCAT(MONTH(B16),AB16) -> 1248.02020562 | AD16: =+_xlfn.SINGLE(_xlfn.XLOOKUP(AB16,C16:AA16,$C$5:$AA$5,0,0)) -> 19
A17: =+TEXT(B17,"Mmmm") -> January | B17: =B16+1 -> 46034 | C17: ='4. FNS Gross'!B15+'5. FNO Gross'!B15+'6. LT PTP Usage'!B15 -> 202.30291 | D17: ='4. FNS Gross'!C15+'5. FNO Gross'!C15+'6. LT PTP Usage'!C15 -> 199.92736 | E17: ='4. FNS Gross'!D15+'5. FNO Gross'!D15+'6. LT PTP Usage'!D15 -> 201.10876 | F17: ='4. FNS Gross'!E15+'5. FNO Gross'!E15+'6. LT PTP Usage'!E15 -> 199.57215 | G17: ='4. FNS Gross'!F15+'5. FNO Gross'!F15+'6. LT PTP Usage'!F15 -> 208.29591 | H17: ='4. FNS Gross'!G15+'5. FNO Gross'!G15+'6. LT PTP Usage'!G15 -> 221.11634 | I17: ='4. FNS Gross'!H15+'5. FNO Gross'!H15+'6. LT PTP Usage'!H15 -> 240.64075 | J17: ='4. FNS Gross'!I15+'5. FNO Gross'!I15+'6. LT PTP Usage'!I15 -> 245.49231 | ... AA17: ='4. FNS Gross'!Z15+'5. FNO Gross'!Z15+'6. LT PTP Usage'!Z15 -> 0 | AB17: =MAX(C17:AA17) -> 245.49231 | AC17: =+_xlfn.CONCAT(MONTH(B17),AB17) -> 1245.492308 | AD17: =+_xlfn.SINGLE(_xlfn.XLOOKUP(AB17,C17:AA17,$C$5:$AA$5,0,0)) -> 8
A18: =+TEXT(B18,"Mmmm") -> January | B18: =B17+1 -> 46035 | C18: ='4. FNS Gross'!B16+'5. FNO Gross'!B16+'6. LT PTP Usage'!B16 -> 200.76767 | D18: ='4. FNS Gross'!C16+'5. FNO Gross'!C16+'6. LT PTP Usage'!C16 -> 201.0438 | E18: ='4. FNS Gross'!D16+'5. FNO Gross'!D16+'6. LT PTP Usage'!D16 -> 201.27496 | F18: ='4. FNS Gross'!E16+'5. FNO Gross'!E16+'6. LT PTP Usage'!E16 -> 198.84724 | G18: ='4. FNS Gross'!F16+'5. FNO Gross'!F16+'6. LT PTP Usage'!F16 -> 213.24136 | H18: ='4. FNS Gross'!G16+'5. FNO Gross'!G16+'6. LT PTP Usage'!G16 -> 222.87998 | I18: ='4. FNS Gross'!H16+'5. FNO Gross'!H16+'6. LT PTP Usage'!H16 -> 240.45004 | J18: ='4. FNS Gross'!I16+'5. FNO Gross'!I16+'6. LT PTP Usage'!I16 -> 246.42062 | ... AA18: ='4. FNS Gross'!Z16+'5. FNO Gross'!Z16+'6. LT PTP Usage'!Z16 -> 0 | AB18: =MAX(C18:AA18) -> 246.42062 | AC18: =+_xlfn.CONCAT(MONTH(B18),AB18) -> 1246.42062127 | AD18: =+_xlfn.SINGLE(_xlfn.XLOOKUP(AB18,C18:AA18,$C$5:$AA$5,0,0)) -> 8
A19: =+TEXT(B19,"Mmmm") -> January | B19: =B18+1 -> 46036 | C19: ='4. FNS Gross'!B17+'5. FNO Gross'!B17+'6. LT PTP Usage'!B17 -> 197.26185 | D19: ='4. FNS Gross'!C17+'5. FNO Gross'!C17+'6. LT PTP Usage'!C17 -> 198.4087 | E19: ='4. FNS Gross'!D17+'5. FNO Gross'!D17+'6. LT PTP Usage'!D17 -> 193.58854 | F19: ='4. FNS Gross'!E17+'5. FNO Gross'!E17+'6. LT PTP Usage'!E17 -> 193.16958 | G19: ='4. FNS Gross'!F17+'5. FNO Gross'!F17+'6. LT PTP Usage'!F17 -> 202.69854 | H19: ='4. FNS Gross'!G17+'5. FNO Gross'!G17+'6. LT PTP Usage'!G17 -> 214.27153 | I19: ='4. FNS Gross'!H17+'5. FNO Gross'!H17+'6. LT PTP Usage'!H17 -> 229.88001 | J19: ='4. FNS Gross'!I17+'5. FNO Gross'!I17+'6. LT PTP Usage'!I17 -> 236.25492 | ... AA19: ='4. FNS Gross'!Z17+'5. FNO Gross'!Z17+'6. LT PTP Usage'!Z17 -> 0 | AB19: =MAX(C19:AA19) -> 237.77384 | AC19: =+_xlfn.CONCAT(MONTH(B19),AB19) -> 1237.77384129 | AD19: =+_xlfn.SINGLE(_xlfn.XLOOKUP(AB19,C19:AA19,$C$5:$AA$5,0,0)) -> 19
... A370: =+TEXT(B370,"Mmmm") -> December | B370: =B369+1 -> 46387 | C370: ='4. FNS Gross'!B368+'5. FNO Gross'!B368+'6. LT PTP Usage'!B368 -> 0 | D370: ='4. FNS Gross'!C368+'5. FNO Gross'!C368+'6. LT PTP Usage'!C368 -> 0 | E370: ='4. FNS Gross'!D368+'5. FNO Gross'!D368+'6. LT PTP Usage'!D368 -> 0 | F370: ='4. FNS Gross'!E368+'5. FNO Gross'!E368+'6. LT PTP Usage'!E368 -> 0 | G370: ='4. FNS Gross'!F368+'5. FNO Gross'!F368+'6. LT PTP Usage'!F368 -> 0 | H370: ='4. FNS Gross'!G368+'5. FNO Gross'!G368+'6. LT PTP Usage'!G368 -> 0 | I370: ='4. FNS Gross'!H368+'5. FNO Gross'!H368+'6. LT PTP Usage'!H368 -> 0 | J370: ='4. FNS Gross'!I368+'5. FNO Gross'!I368+'6. LT PTP Usage'!I368 -> 0 | ... AA370: ='4. FNS Gross'!Z368+'5. FNO Gross'!Z368+'6. LT PTP Usage'!Z368 -> 0 | AB370: =MAX(C370:AA370) -> 0 | AC370: =+_xlfn.CONCAT(MONTH(B370),AB370) -> 120 | AD370: =+_xlfn.SINGLE(_xlfn.XLOOKUP(AB370,C370:AA370,$C$5:$AA$5,0,0)) -> 1

Sheet 4. FNS Gross
A1: 4. FSN Gross | G1: This is the aggregate of FNS (tab 4a) + FNS Impacted Gen (tab 4b)
A3: End Date | B3: 1 | C3: 2 | D3: 3 | E3: 4 | F3: 5 | G3: 6 | H3: 7 | I3: 8 | J3: 9 | K3: 10 | L3: 11 | M3: 12 | N3: 13 | O3: 14 | P3: 15 | Q3: 16 | R3: 17 | S3: 18 | T3: 19 | U3: 20 | V3: 21 | W3: 22 | X3: 23 | Y3: 24 | Z3: 25
A4: ='3.Total System Load Calc'!B6 -> 46023 | B4: =SUM('4a. FNS'!B4+'4b. FNS Impacted Gen'!B4) -> 198.596 | C4: =SUM('4a. FNS'!C4+'4b. FNS Impacted Gen'!C4) -> 194.455 | D4: =SUM('4a. FNS'!D4+'4b. FNS Impacted Gen'!D4) -> 191.65 | E4: =SUM('4a. FNS'!E4+'4b. FNS Impacted Gen'!E4) -> 191.582 | F4: =SUM('4a. FNS'!F4+'4b. FNS Impacted Gen'!F4) -> 193.095 | G4: =SUM('4a. FNS'!G4+'4b. FNS Impacted Gen'!G4) -> 196.372 | H4: =SUM('4a. FNS'!H4+'4b. FNS Impacted Gen'!H4) -> 202.201 | I4: =SUM('4a. FNS'!I4+'4b. FNS Impacted Gen'!I4) -> 205.813 | ... Z4: =SUM('4a. FNS'!Z4+'4b. FNS Impacted Gen'!Z4) -> 0
A5: =A4+1 -> 46024 | B5: =SUM('4a. FNS'!B5+'4b. FNS Impacted Gen'!B5) -> 188.556 | C5: =SUM('4a. FNS'!C5+'4b. FNS Impacted Gen'!C5) -> 187.427 | D5: =SUM('4a. FNS'!D5+'4b. FNS Impacted Gen'!D5) -> 186.336 | E5: =SUM('4a. FNS'!E5+'4b. FNS Impacted Gen'!E5) -> 185.391 | F5: =SUM('4a. FNS'!F5+'4b. FNS Impacted Gen'!F5) -> 191.003 | G5: =SUM('4a. FNS'!G5+'4b. FNS Impacted Gen'!G5) -> 197.219 | H5: =SUM('4a. FNS'!H5+'4b. FNS Impacted Gen'!H5) -> 209.27 | I5: =SUM('4a. FNS'!I5+'4b. FNS Impacted Gen'!I5) -> 211.697 | ... Z5: =SUM('4a. FNS'!Z5+'4b. FNS Impacted Gen'!Z5) -> 0
A6: =A5+1 -> 46025 | B6: =SUM('4a. FNS'!B6+'4b. FNS Impacted Gen'!B6) -> 186.823 | C6: =SUM('4a. FNS'!C6+'4b. FNS Impacted Gen'!C6) -> 185.021 | D6: =SUM('4a. FNS'!D6+'4b. FNS Impacted Gen'!D6) -> 186.214 | E6: =SUM('4a. FNS'!E6+'4b. FNS Impacted Gen'!E6) -> 185.972 | F6: =SUM('4a. FNS'!F6+'4b. FNS Impacted Gen'!F6) -> 190.516 | G6: =SUM('4a. FNS'!G6+'4b. FNS Impacted Gen'!G6) -> 196.062 | H6: =SUM('4a. FNS'!H6+'4b. FNS Impacted Gen'!H6) -> 204.4 | I6: =SUM('4a. FNS'!I6+'4b. FNS Impacted Gen'!I6) -> 209.079 | ... Z6: =SUM('4a. FNS'!Z6+'4b. FNS Impacted Gen'!Z6) -> 0
A7: =A6+1 -> 46026 | B7: =SUM('4a. FNS'!B7+'4b. FNS Impacted Gen'!B7) -> 182.704 | C7: =SUM('4a. FNS'!C7+'4b. FNS Impacted Gen'!C7) -> 181.108 | D7: =SUM('4a. FNS'!D7+'4b. FNS Impacted Gen'!D7) -> 176.259 | E7: =SUM('4a. FNS'!E7+'4b. FNS Impacted Gen'!E7) -> 177.079 | F7: =SUM('4a. FNS'!F7+'4b. FNS Impacted Gen'!F7) -> 177.676 | G7: =SUM('4a. FNS'!G7+'4b. FNS Impacted Gen'!G7) -> 183.466 | H7: =SUM('4a. FNS'!H7+'4b. FNS Impacted Gen'!H7) -> 190.787 | I7: =SUM('4a. FNS'!I7+'4b. FNS Impacted Gen'!I7) -> 192.348 | ... Z7: =SUM('4a. FNS'!Z7+'4b. FNS Impacted Gen'!Z7) -> 0
A8: =A7+1 -> 46027 | B8: =SUM('4a. FNS'!B8+'4b. FNS Impacted Gen'!B8) -> 184.868 | C8: =SUM('4a. FNS'!C8+'4b. FNS Impacted Gen'!C8) -> 183.752 | D8: =SUM('4a. FNS'!D8+'4b. FNS Impacted Gen'!D8) -> 182.616 | E8: =SUM('4a. FNS'!E8+'4b. FNS Impacted Gen'!E8) -> 183.678 | F8: =SUM('4a. FNS'!F8+'4b. FNS Impacted Gen'!F8) -> 190.361 | G8: =SUM('4a. FNS'!G8+'4b. FNS Impacted Gen'!G8) -> 199.346 | H8: =SUM('4a. FNS'!H8+'4b. FNS Impacted Gen'!H8) -> 218.017 | I8: =SUM('4a. FNS'!I8+'4b. FNS Impacted Gen'!I8) -> 224.139 | ... Z8: =SUM('4a. FNS'!Z8+'4b. FNS Impacted Gen'!Z8) -> 0
A9: =A8+1 -> 46028 | B9: =SUM('4a. FNS'!B9+'4b. FNS Impacted Gen'!B9) -> 201.828 | C9: =SUM('4a. FNS'!C9+'4b. FNS Impacted Gen'!C9) -> 199.559 | D9: =SUM('4a. FNS'!D9+'4b. FNS Impacted Gen'!D9) -> 198.417 | E9: =SUM('4a. FNS'!E9+'4b. FNS Impacted Gen'!E9) -> 189.799 | F9: =SUM('4a. FNS'!F9+'4b. FNS Impacted Gen'!F9) -> 197.97 | G9: =SUM('4a. FNS'!G9+'4b. FNS Impacted Gen'!G9) -> 207.787 | H9: =SUM('4a. FNS'!H9+'4b. FNS Impacted Gen'!H9) -> 226.883 | I9: =SUM('4a. FNS'!I9+'4b. FNS Impacted Gen'!I9) -> 230.508 | ... Z9: =SUM('4a. FNS'!Z9+'4b. FNS Impacted Gen'!Z9) -> 0
A10: =A9+1 -> 46029 | B10: =SUM('4a. FNS'!B10+'4b. FNS Impacted Gen'!B10) -> 205.221 | C10: =SUM('4a. FNS'!C10+'4b. FNS Impacted Gen'!C10) -> 204.725 | D10: =SUM('4a. FNS'!D10+'4b. FNS Impacted Gen'!D10) -> 204.212 | E10: =SUM('4a. FNS'!E10+'4b. FNS Impacted Gen'!E10) -> 203.406 | F10: =SUM('4a. FNS'!F10+'4b. FNS Impacted Gen'!F10) -> 207.625 | G10: =SUM('4a. FNS'!G10+'4b. FNS Impacted Gen'!G10) -> 219.199 | H10: =SUM('4a. FNS'!H10+'4b. FNS Impacted Gen'!H10) -> 234.366 | I10: =SUM('4a. FNS'!I10+'4b. FNS Impacted Gen'!I10) -> 242.218 | ... Z10: =SUM('4a. FNS'!Z10+'4b. FNS Impacted Gen'!Z10) -> 0
A11: =A10+1 -> 46030 | B11: =SUM('4a. FNS'!B11+'4b. FNS Impacted Gen'!B11) -> 199.464 | C11: =SUM('4a. FNS'!C11+'4b. FNS Impacted Gen'!C11) -> 193.632 | D11: =SUM('4a. FNS'!D11+'4b. FNS Impacted Gen'!D11) -> 192.655 | E11: =SUM('4a. FNS'!E11+'4b. FNS Impacted Gen'!E11) -> 192.954 | F11: =SUM('4a. FNS'!F11+'4b. FNS Impacted Gen'!F11) -> 187.669 | G11: =SUM('4a. FNS'!G11+'4b. FNS Impacted Gen'!G11) -> 202.027 | H11: =SUM('4a. FNS'!H11+'4b. FNS Impacted Gen'!H11) -> 208.627 | I11: =SUM('4a. FNS'!I11+'4b. FNS Impacted Gen'!I11) -> 218.298 | ... Z11: =SUM('4a. FNS'!Z11+'4b. FNS Impacted Gen'!Z11) -> 0
A12: =A11+1 -> 46031 | B12: =SUM('4a. FNS'!B12+'4b. FNS Impacted Gen'!B12) -> 219.556 | C12: =SUM('4a. FNS'!C12+'4b. FNS Impacted Gen'!C12) -> 216.094 | D12: =SUM('4a. FNS'!D12+'4b. FNS Impacted Gen'!D12) -> 219.062 | E12: =SUM('4a. FNS'!E12+'4b. FNS Impacted Gen'!E12) -> 216.56 | F12: =SUM('4a. FNS'!F12+'4b. FNS Impacted Gen'!F12) -> 223.704 | G12: =SUM('4a. FNS'!G12+'4b. FNS Impacted Gen'!G12) -> 229.077 | H12: =SUM('4a. FNS'!H12+'4b. FNS Impacted Gen'!H12) -> 241.731 | I12: =SUM('4a. FNS'!I12+'4b. FNS Impacted Gen'!I12) -> 249.525 | ... Z12: =SUM('4a. FNS'!Z12+'4b. FNS Impacted Gen'!Z12) -> 0
A13: =A12+1 -> 46032 | B13: =SUM('4a. FNS'!B13+'4b. FNS Impacted Gen'!B13) -> 233.821 | C13: =SUM('4a. FNS'!C13+'4b. FNS Impacted Gen'!C13) -> 231.197 | D13: =SUM('4a. FNS'!D13+'4b. FNS Impacted Gen'!D13) -> 230.149 | E13: =SUM('4a. FNS'!E13+'4b. FNS Impacted Gen'!E13) -> 222.94 | F13: =SUM('4a. FNS'!F13+'4b. FNS Impacted Gen'!F13) -> 225.202 | G13: =SUM('4a. FNS'!G13+'4b. FNS Impacted Gen'!G13) -> 231.54 | H13: =SUM('4a. FNS'!H13+'4b. FNS Impacted Gen'!H13) -> 241.696 | I13: =SUM('4a. FNS'!I13+'4b. FNS Impacted Gen'!I13) -> 249.124 | ... Z13: =SUM('4a. FNS'!Z13+'4b. FNS Impacted Gen'!Z13) -> 0
A14: =A13+1 -> 46033 | B14: =SUM('4a. FNS'!B14+'4b. FNS Impacted Gen'!B14) -> 205.302 | C14: =SUM('4a. FNS'!C14+'4b. FNS Impacted Gen'!C14) -> 201.049 | D14: =SUM('4a. FNS'!D14+'4b. FNS Impacted Gen'!D14) -> 200.469 | E14: =SUM('4a. FNS'!E14+'4b. FNS Impacted Gen'!E14) -> 199.4 | F14: =SUM('4a. FNS'!F14+'4b. FNS Impacted Gen'!F14) -> 194.996 | G14: =SUM('4a. FNS'!G14+'4b. FNS Impacted Gen'!G14) -> 204.996 | H14: =SUM('4a. FNS'!H14+'4b. FNS Impacted Gen'!H14) -> 211.633 | I14: =SUM('4a. FNS'!I14+'4b. FNS Impacted Gen'!I14) -> 217.193 | ... Z14: =SUM('4a. FNS'!Z14+'4b. FNS Impacted Gen'!Z14) -> 0
A15: =A14+1 -> 46034 | B15: =SUM('4a. FNS'!B15+'4b. FNS Impacted Gen'!B15) -> 191.651 | C15: =SUM('4a. FNS'!C15+'4b. FNS Impacted Gen'!C15) -> 189.318 | D15: =SUM('4a. FNS'!D15+'4b. FNS Impacted Gen'!D15) -> 190.519 | E15: =SUM('4a. FNS'!E15+'4b. FNS Impacted Gen'!E15) -> 188.789 | F15: =SUM('4a. FNS'!F15+'4b. FNS Impacted Gen'!F15) -> 195.138 | G15: =SUM('4a. FNS'!G15+'4b. FNS Impacted Gen'!G15) -> 207.344 | H15: =SUM('4a. FNS'!H15+'4b. FNS Impacted Gen'!H15) -> 226.028 | I15: =SUM('4a. FNS'!I15+'4b. FNS Impacted Gen'!I15) -> 230.563 | ... Z15: =SUM('4a. FNS'!Z15+'4b. FNS Impacted Gen'!Z15) -> 0
A16: =A15+1 -> 46035 | B16: =SUM('4a. FNS'!B16+'4b. FNS Impacted Gen'!B16) -> 191.258 | C16: =SUM('4a. FNS'!C16+'4b. FNS Impacted Gen'!C16) -> 191.604 | D16: =SUM('4a. FNS'!D16+'4b. FNS Impacted Gen'!D16) -> 191.822 | E16: =SUM('4a. FNS'!E16+'4b. FNS Impacted Gen'!E16) -> 189.285 | F16: =SUM('4a. FNS'!F16+'4b. FNS Impacted Gen'!F16) -> 201.166 | G16: =SUM('4a. FNS'!G16+'4b. FNS Impacted Gen'!G16) -> 210.29 | H16: =SUM('4a. FNS'!H16+'4b. FNS Impacted Gen'!H16) -> 227.047 | I16: =SUM('4a. FNS'!I16+'4b. FNS Impacted Gen'!I16) -> 232.619 | ... Z16: =SUM('4a. FNS'!Z16+'4b. FNS Impacted Gen'!Z16) -> 0
... A368: =A367+1 -> 46387 | B368: =SUM('4a. FNS'!B368+'4b. FNS Impacted Gen'!B368) -> 0 | C368: =SUM('4a. FNS'!C368+'4b. FNS Impacted Gen'!C368) -> 0 | D368: =SUM('4a. FNS'!D368+'4b. FNS Impacted Gen'!D368) -> 0 | E368: =SUM('4a. FNS'!E368+'4b. FNS Impacted Gen'!E368) -> 0 | F368: =SUM('4a. FNS'!F368+'4b. FNS Impacted Gen'!F368) -> 0 | G368: =SUM('4a. FNS'!G368+'4b. FNS Impacted Gen'!G368) -> 0 | H368: =SUM('4a. FNS'!H368+'4b. FNS Impacted Gen'!H368) -> 0 | I368: =SUM('4a. FNS'!I368+'4b. FNS Impacted Gen'!I368) -> 0 | ... Z368: =SUM('4a. FNS'!Z368+'4b. FNS Impacted Gen'!Z368) -> 0

Sheet 4a. FNS
A1: 4a. FNS | F1: PowerOptix > Transactions > Meter Data Detail View > 2 - LOADS - BHCE LOAD
A3: End Date | B3: 1 | C3: 2 | D3: 3 | E3: 4 | F3: 5 | G3: 6 | H3: 7 | I3: 8 | J3: 9 | K3: 10 | L3: 11 | M3: 12 | N3: 13 | O3: 14 | P3: 15 | Q3: 16 | R3: 17 | S3: 18 | T3: 19 | U3: 20 | V3: 21 | W3: 22 | X3: 23 | Y3: 24 | Z3: 25
A4: ='3.Total System Load Calc'!B6 -> 46023 | B4: 198.596 | C4: 194.455 | D4: 191.65 | E4: 191.582 | F4: 193.095 | G4: 196.372 | H4: 202.201 | I4: 205.73 | J4: 203.484 | K4: 198.397 | L4: 196.508 | M4: 197.142 | N4: 202.274 | O4: 196.583 | P4: 191.493 | Q4: 205.256 | R4: 208.192 | S4: 218.19 | T4: 213.668 | U4: 206.626 | V4: 199.838 | W4: 194.425 | X4: 196.883 | Y4: 191.3
A5: =A4+1 -> 46024 | B5: 188.556 | C5: 187.427 | D5: 186.336 | E5: 185.391 | F5: 191.003 | G5: 197.219 | H5: 209.27 | I5: 211.345 | J5: 208.826 | K5: 191.783 | L5: 177.791 | M5: 172.655 | N5: 189.561 | O5: 182.234 | P5: 181.611 | Q5: 186.38 | R5: 208.045 | S5: 224.605 | T5: 223.11 | U5: 217.833 | V5: 210.5 | W5: 203.439 | X5: 198.69 | Y5: 191.568
A6: =A5+1 -> 46025 | B6: 186.823 | C6: 185.021 | D6: 186.214 | E6: 185.972 | F6: 190.516 | G6: 196.062 | H6: 204.4 | I6: 208.683 | J6: 188.27 | K6: 168.514 | L6: 157.554 | M6: 153.016 | N6: 150.961 | O6: 156.21 | P6: 169.529 | Q6: 185.647 | R6: 205.402 | S6: 224.112 | T6: 223.55 | U6: 223.052 | V6: 218.798 | W6: 212.942 | X6: 205.426 | Y6: 191.377
A7: =A6+1 -> 46026 | B7: 182.704 | C7: 181.108 | D7: 176.259 | E7: 177.079 | F7: 177.676 | G7: 183.466 | H7: 190.787 | I7: 192.106 | J7: 175.664 | K7: 160.153 | L7: 154.266 | M7: 153.972 | N7: 153.844 | O7: 157.774 | P7: 169.662 | Q7: 183.293 | R7: 209.438 | S7: 223.392 | T7: 224.651 | U7: 218.33 | V7: 213.634 | W7: 203.871 | X7: 198.671 | Y7: 190.027
A8: =A7+1 -> 46027 | B8: 184.868 | C8: 183.752 | D8: 182.616 | E8: 183.678 | F8: 190.361 | G8: 199.346 | H8: 218.017 | I8: 223.802 | J8: 204.877 | K8: 190.448 | L8: 185.812 | M8: 197.437 | N8: 198.585 | O8: 181.089 | P8: 185.255 | Q8: 201.401 | R8: 229.435 | S8: 245.256 | T8: 243.376 | U8: 240.609 | V8: 233.919 | W8: 224.802 | X8: 217.019 | Y8: 207.48
A9: =A8+1 -> 46028 | B9: 201.828 | C9: 199.559 | D9: 198.417 | E9: 189.799 | F9: 197.97 | G9: 207.787 | H9: 226.883 | I9: 230.114 | J9: 211.375 | K9: 189.328 | L9: 175.567 | M9: 169.565 | N9: 163.025 | O9: 166.924 | P9: 175.527 | Q9: 200.456 | R9: 235.371 | S9: 251.365 | T9: 245.088 | U9: 238.402 | V9: 234.186 | W9: 228.574 | X9: 217.24 | Y9: 210.451
A10: =A9+1 -> 46029 | B10: 205.221 | C10: 204.725 | D10: 204.212 | E10: 203.406 | F10: 207.625 | G10: 219.199 | H10: 234.366 | I10: 242.113 | J10: 223.395 | K10: 194.979 | L10: 182.895 | M10: 176.435 | N10: 169.89 | O10: 176.679 | P10: 188.448 | Q10: 210.561 | R10: 228.456 | S10: 243.128 | T10: 242.74 | U10: 236.91 | V10: 230.304 | W10: 225.161 | X10: 214.715 | Y10: 206.535
A11: =A10+1 -> 46030 | B11: 199.464 | C11: 193.632 | D11: 192.655 | E11: 192.954 | F11: 187.669 | G11: 202.027 | H11: 208.627 | I11: 218.26 | J11: 219.095 | K11: 215.471 | L11: 209.996 | M11: 194.58 | N11: 189.555 | O11: 192.392 | P11: 204.034 | Q11: 212.355 | R11: 232.627 | S11: 249.35 | T11: 256.045 | U11: 254.141 | V11: 249.41 | W11: 234.707 | X11: 234.278 | Y11: 224.147
A12: =A11+1 -> 46031 | B12: 219.556 | C12: 216.094 | D12: 219.062 | E12: 216.56 | F12: 223.704 | G12: 229.077 | H12: 241.731 | I12: 249.525 | J12: 251.573 | K12: 259.357 | L12: 264.448 | M12: 267.165 | N12: 262.236 | O12: 265.2 | P12: 263.649 | Q12: 265.798 | R12: 264.499 | S12: 271.252 | T12: 272.239 | U12: 266.862 | V12: 259.761 | W12: 252.666 | X12: 246.094 | Y12: 237.95
A13: =A12+1 -> 46032 | B13: 233.821 | C13: 231.197 | D13: 230.149 | E13: 222.94 | F13: 225.202 | G13: 231.54 | H13: 241.696 | I13: 248.87 | J13: 246.391 | K13: 239.948 | L13: 235.179 | M13: 221.43 | N13: 207.944 | O13: 198.77 | P13: 194.069 | Q13: 202.504 | R13: 225.328 | S13: 242.73 | T13: 244.518 | U13: 242.652 | V13: 237.213 | W13: 230.121 | X13: 219.12 | Y13: 210.256
A14: =A13+1 -> 46033 | B14: 205.302 | C14: 201.049 | D14: 200.469 | E14: 199.4 | F14: 194.996 | G14: 204.996 | H14: 211.633 | I14: 216.766 | J14: 198.946 | K14: 185.267 | L14: 175.014 | M14: 168.077 | N14: 164.666 | O14: 164.399 | P14: 170.344 | Q14: 190.763 | R14: 215.543 | S14: 230.63 | T14: 234.661 | U14: 228.847 | V14: 224.715 | W14: 217.163 | X14: 205.739 | Y14: 198.739
A15: =A14+1 -> 46034 | B15: 191.651 | C15: 189.318 | D15: 190.519 | E15: 188.789 | F15: 195.138 | G15: 207.344 | H15: 226.028 | I15: 230.215 | J15: 205.45 | K15: 182.171 | L15: 177.679 | M15: 167.995 | N15: 165.237 | O15: 164.027 | P15: 169.769 | Q15: 181.04 | R15: 208.121 | S15: 229.001 | T15: 230.338 | U15: 224.003 | V15: 224.705 | W15: 215.381 | X15: 203.974 | Y15: 197.916
A16: =A15+1 -> 46035 | B16: 191.258 | C16: 191.604 | D16: 191.822 | E16: 189.285 | F16: 201.166 | G16: 210.29 | H16: 227.046 | I16: 232.433 | J16: 228.573 | K16: 212.674 | L16: 203.576 | M16: 185.538 | N16: 178.598 | O16: 175.067 | P16: 177.259 | Q16: 196.104 | R16: 213.905 | S16: 229.014 | T16: 229.803 | U16: 227.03 | V16: 219.671 | W16: 211.808 | X16: 200.895 | Y16: 194.834
... A69: =A68+1 -> 46088 | B69: 195.984 | C69: 193.28 | D69: 192.846 | E69: 191.538 | F69: 197.586 | G69: 203.92 | H69: 207.885 | I69: 193.843 | J69: 175.093 | K69: 161.592 | L69: 146.457 | M69: 136.871 | N69: 128.806 | O69: 126.019 | P69: 130.497 | Q69: 141.42 | R69: 167.426 | S69: 196.487 | T69: 220.051 | U69: 216.776 | V69: 214.575 | W69: 209.069 | X69: 197.994 | Y69: 192.631
A70: =A69+1 -> 46089 | B70: 189.433 | D70: 190.095 | E70: 192.662 | F70: 192.897 | G70: 198.779 | H70: 203.11 | I70: 204.85 | J70: 174.704 | K70: 148.854 | L70: 138.148 | M70: 133.674 | N70: 129.524 | O70: 129.942 | P70: 131.45 | Q70: 140.239 | R70: 158.915 | S70: 183.626 | T70: 207.423 | U70: 217.761 | V70: 212.371 | W70: 204.483 | X70: 192.962 | Y70: 183.143
A71: =A70+1 -> 46090 | B71: 177.548 | C71: 173.721 | D71: 172.073 | E71: 174.414 | F71: 173.734 | G71: 179.981 | H71: 195.251 | I71: 202.906 | J71: 177.919 | K71: 157.387 | L71: 142.142 | M71: 133.745 | N71: 128.45 | O71: 131.415 | P71: 133.133 | Q71: 141.57 | R71: 155.254 | S71: 177.143 | T71: 198.399 | U71: 204.87 | V71: 200.433 | W71: 190.377 | X71: 180.051 | Y71: 169.61
A72: =A71+1 -> 46091 | B72: 161.998 | C72: 161.052 | D72: 158.363 | E72: 159.091 | F72: 163.228 | G72: 175.182 | H72: 192.768 | I72: 200.589 | J72: 200.339 | K72: 193.34 | L72: 159.297 | M72: 137.024 | N72: 130.386 | O72: 130.327 | P72: 131.816 | Q72: 144.485 | R72: 155.89 | S72: 179.13 | T72: 197.845 | U72: 203.231 | V72: 201.588 | W72: 191.347 | X72: 180.945 | Y72: 172.257
A73: =A72+1 -> 46092 | B73: 168.255 | C73: 162.113 | D73: 161.548 | E73: 162.323 | F73: 172.084 | G73: 185.785 | H73: 205.146 | I73: 216.997 | J73: 217.836 | K73: 214.141 | L73: 209.196 | M73: 201.08 | N73: 180.904 | O73: 169.021 | P73: 152.907 | Q73: 142.501 | R73: 153.957 | S73: 174.96 | T73: 203.923 | U73: 219.573 | V73: 219.268 | W73: 212.807 | X73: 205.659 | Y73: 196.698
A74: =A73+1 -> 46093 | B74: 192.388 | C74: 189.329 | D74: 190.554 | E74: 189.044 | F74: 195.528 | G74: 205.263 | H74: 225.914 | I74: 229.382 | J74: 201.919 | K74: 181.492 | L74: 163.958 | M74: 156.844 | N74: 145.727 | O74: 148.079 | P74: 152.94 | Q74: 169.789 | R74: 174.623 | S74: 187.515 | T74: 203.439 | U74: 212.343 | V74: 208.308 | W74: 200.105 | X74: 191.075 | Y74: 183.578
A75: =A74+1 -> 46094 | B75: 176.185 | C75: 172.083 | D75: 170.291 | E75: 169.723 | F75: 173.784 | G75: 181.702 | H75: 195.744 | I75: 201.186 | J75: 196.819 | K75: 181.79 | L75: 171.066 | M75: 168.251 | N75: 164.242 | O75: 169.45 | P75: 176.738 | Q75: 157.795 | R75: 155.099 | S75: 176.566 | T75: 196.791 | U75: 208.024 | V75: 203.189 | W75: 198.264 | X75: 188.662 | Y75: 182.561
A76: =A75+1 -> 46095 | B76: 173.777 | C76: 170.379 | D76: 169.495 | E76: 169.317 | F76: 170.596 | G76: 177.952 | H76: 185.289 | I76: 187.693 | J76: 165.215 | K76: 146.4 | L76: 135.789 | M76: 135.869 | N76: 138.53 | O76: 138.371 | P76: 130.767 | Q76: 142.665 | R76: 164.113 | S76: 182.933 | T76: 197.651 | U76: 202.237 | V76: 196.32 | W76: 195.468 | X76: 189.486 | Y76: 178.033
A77: =A76+1 -> 46096 | B77: 173.136 | C77: 169.843 | D77: 165.418 | E77: 163.986 | F77: 172.408 | G77: 179.696 | H77: 189.182 | I77: 194.527 | J77: 197.697 | K77: 194.788 | L77: 181.676 | M77: 160.182 | N77: 152.592 | O77: 162.511 | P77: 167.707 | Q77: 181.36 | R77: 203.77 | S77: 221.121 | T77: 234.466 | U77: 241.72 | V77: 238.606 | W77: 230.572 | X77: 221.033 | Y77: 211.419
A78: =A77+1 -> 46097 | B78: 204.843 | C78: 202.296 | D78: 209.957 | E78: 204.585 | F78: 217.118 | G78: 228.728 | H78: 245.951 | I78: 251.939 | J78: 234.569 | K78: 217.804 | L78: 201.052 | M78: 192.502 | N78: 160.285 | O78: 150.807 | P78: 140.098 | Q78: 148.927 | R78: 163.713 | S78: 186.196 | T78: 211.132 | U78: 225.953 | V78: 224.431 | W78: 216.645 | X78: 207.463 | Y78: 202.091
A79: =A78+1 -> 46098 | B79: 200.407 | C79: 206.69 | D79: 199.921 | E79: 204.484 | F79: 212.657 | G79: 222.433 | H79: 238.138 | I79: 240.954 | J79: 212.655 | K79: 196.483 | L79: 168.833 | M79: 139.231 | N79: 138.464 | O79: 145.784 | P79: 153.782 | Q79: 165.859 | R79: 182.027 | S79: 186.377 | T79: 210.167 | U79: 218.675 | V79: 212.722 | W79: 207.271 | X79: 202.909 | Y79: 194.337
A80: =A79+1 -> 46099 | B80: 191.014 | C80: 189.798 | D80: 186.017 | E80: 188.153 | F80: 189.992 | G80: 203.455 | H80: 216.5 | I80: 220.145 | J80: 195.08 | K80: 165.935 | L80: 155.812 | M80: 147.062 | N80: 145.096 | O80: 163.172 | P80: 166.004 | Q80: 180.042 | R80: 189.108 | S80: 206.736 | T80: 236.939 | U80: 239.844 | V80: 233.368 | W80: 212.288 | X80: 197.536 | Y80: 184.964
A81: =A80+1 -> 46100 | B81: 179.263 | C81: 182.346 | D81: 182.756 | E81: 179.552 | F81: 185.62 | G81: 194.777 | H81: 211.011 | I81: 213.223 | J81: 191.507 | K81: 171.436 | L81: 160.146 | M81: 156.4 | N81: 159.801 | O81: 168.883 | P81: 179.565 | Q81: 196.074 | R81: 212.451 | S81: 230.397 | T81: 248.422 | U81: 250.96 | V81: 234.098 | W81: 217.517 | X81: 202.527 | Y81: 190.513
A82: =A81+1 -> 46101 | B82: 184.811 | C82: 176.837 | D82: 172.276 | E82: 172.037 | F82: 174.802 | G82: 180.851 | H82: 193.328 | I82: 194.883 | J82: 177.281 | K82: 162.855 | L82: 148.972 | M82: 139.814 | N82: 143.43 | O82: 153.579 | P82: 163.757 | Q82: 182.408 | R82: 202.506 | S82: 218.019 | T82: 234.631 | U82: 236.398 | V82: 225.901 | W82: 215.71 | X82: 201.267 | Y82: 188.02
... A246: =A245+1 -> 46265 | B246: 199.559 | C246: 191.608 | D246: 181.244 | E246: 178.537 | F246: 180.064 | G246: 186.76 | H246: 198.995 | I246: 198.239 | J246: 203.327 | K246: 195.681 | L246: 211.009 | M246: 225.117 | N246: 219.521 | O246: 241.781 | P246: 262.932 | Q246: 277.44 | R246: 282.545 | S246: 275.424 | T246: 279.316 | U246: 274.51 | V246: 262.26 | W246: 246.504 | X246: 232.396 | Y246: 215.684
A247: =A246+1 -> 46266
A248: =A247+1 -> 46267
A249: =A248+1 -> 46268
A250: =A249+1 -> 46269
A251: =A250+1 -> 46270
A252: =A251+1 -> 46271
A253: =A252+1 -> 46272
A254: =A253+1 -> 46273
A255: =A254+1 -> 46274
A256: =A255+1 -> 46275
A257: =A256+1 -> 46276
A258: =A257+1 -> 46277
... A368: =A367+1 -> 46387

Sheet 4b. FNS Impacted Gen
A1: 4b. FNS Impacted Gen | F1: PowerOptix > Transactions > Data Management > Hourly Data > ImpactedGen
A3: End Date | B3: 1 | C3: 2 | D3: 3 | E3: 4 | F3: 5 | G3: 6 | H3: 7 | I3: 8 | J3: 9 | K3: 10 | L3: 11 | M3: 12 | N3: 13 | O3: 14 | P3: 15 | Q3: 16 | R3: 17 | S3: 18 | T3: 19 | U3: 20 | V3: 21 | W3: 22 | X3: 23 | Y3: 24 | Z3: 25
A4: ='3.Total System Load Calc'!B6 -> 46023 | B4: 0 | C4: 0 | D4: 0 | E4: 0 | F4: 0 | G4: 0 | H4: 0 | I4: 0.083 | J4: 0.457 | K4: 1.063 | L4: 1.889 | M4: 2.317 | N4: 1.839 | O4: 1.646 | P4: 1.377 | Q4: 0.533 | R4: 0.066 | S4: 0 | T4: 0 | U4: 0 | V4: 0 | W4: 0 | X4: 0 | Y4: 0
A5: =A4+1 -> 46024 | B5: 0 | C5: 0 | D5: 0 | E5: 0 | F5: 0 | G5: 0 | H5: 0 | I5: 0.352 | J5: 2.285 | K5: 3.011 | L5: 3.07 | M5: 3.65 | N5: 2.75 | O5: 2.225 | P5: 2.565 | Q5: 2.774 | R5: 0.295 | S5: 0 | T5: 0 | U5: 0 | V5: 0 | W5: 0 | X5: 0 | Y5: 0
A6: =A5+1 -> 46025 | B6: 0 | C6: 0 | D6: 0 | E6: 0 | F6: 0 | G6: 0 | H6: 0 | I6: 0.396 | J6: 2.871 | K6: 4.467 | L6: 4.35 | M6: 4.094 | N6: 4.011 | O6: 4.042 | P6: 3.465 | Q6: 1.707 | R6: 0.229 | S6: 0 | T6: 0 | U6: 0 | V6: 0 | W6: 0 | X6: 0 | Y6: 0
A7: =A6+1 -> 46026 | B7: 0 | C7: 0 | D7: 0 | E7: 0 | F7: 0 | G7: 0 | H7: 0 | I7: 0.242 | J7: 3.125 | K7: 4.511 | L7: 4.365 | M7: 4.085 | N7: 4.014 | O7: 4.204 | P7: 4.331 | Q7: 2.966 | R7: 0.403 | S7: 0 | T7: 0 | U7: 0 | V7: 0 | W7: 0 | X7: 0 | Y7: 0
A8: =A7+1 -> 46027 | B8: 0 | C8: 0 | D8: 0 | E8: 0 | F8: 0 | G8: 0 | H8: 0 | I8: 0.337 | J8: 2.029 | K8: 4.419 | L8: 4.286 | M8: 3.893 | N8: 3.629 | O8: 4.185 | P8: 4.408 | Q8: 3.056 | R8: 0.422 | S8: 0 | T8: 0 | U8: 0 | V8: 0 | W8: 0 | X8: 0 | Y8: 0
A9: =A8+1 -> 46028 | B9: 0 | C9: 0 | D9: 0 | E9: 0 | F9: 0 | G9: 0 | H9: 0 | I9: 0.394 | J9: 3.222 | K9: 4.647 | L9: 4.504 | M9: 4.216 | N9: 4.17 | O9: 4.34 | P9: 4.43 | Q9: 2.951 | R9: 0.419 | S9: 0 | T9: 0 | U9: 0 | V9: 0 | W9: 0 | X9: 0 | Y9: 0
A10: =A9+1 -> 46029 | B10: 0 | C10: 0 | D10: 0 | E10: 0 | F10: 0 | G10: 0 | H10: 0 | I10: 0.105 | J10: 1.341 | K10: 2.317 | L10: 3.576 | M10: 3.942 | N10: 4.068 | O10: 3.748 | P10: 3.605 | Q10: 1.531 | R10: 0.111 | S10: 0 | T10: 0 | U10: 0 | V10: 0 | W10: 0 | X10: 0 | Y10: 0
A11: =A10+1 -> 46030 | B11: 0 | C11: 0 | D11: 0 | E11: 0 | F11: 0 | G11: 0 | H11: 0 | I11: 0.038 | J11: 0.382 | K11: 0.719 | L11: 1.165 | M11: 2.141 | N11: 2.571 | O11: 3.043 | P11: 2.438 | Q11: 0.697 | R11: 0.093 | S11: 0 | T11: 0 | U11: 0 | V11: 0 | W11: 0 | X11: 0 | Y11: 0
A12: =A11+1 -> 46031 | B12: 0 | C12: 0 | D12: 0 | E12: 0 | F12: 0 | G12: 0 | H12: 0 | I12: 0 | J12: 0.02 | K12: 0.065 | L12: 0.211 | M12: 0.555 | N12: 0.76 | O12: 1.006 | P12: 1.12 | Q12: 1.036 | R12: 0.14 | S12: 0 | T12: 0 | U12: 0 | V12: 0 | W12: 0 | X12: 0 | Y12: 0
A13: =A12+1 -> 46032 | B13: 0 | C13: 0 | D13: 0 | E13: 0 | F13: 0 | G13: 0 | H13: 0 | I13: 0.254 | J13: 2.359 | K13: 3.565 | L13: 3.874 | M13: 3.702 | N13: 3.68 | O13: 4.059 | P13: 4.426 | Q13: 3.282 | R13: 0.543 | S13: 0 | T13: 0 | U13: 0 | V13: 0 | W13: 0 | X13: 0 | Y13: 0
A14: =A13+1 -> 46033 | B14: 0 | C14: 0 | D14: 0 | E14: 0 | F14: 0 | G14: 0 | H14: 0 | I14: 0.427 | J14: 3.321 | K14: 4.792 | L14: 4.726 | M14: 4.49 | N14: 4.447 | O14: 4.506 | P14: 4.542 | Q14: 3.18 | R14: 0.48 | S14: 0 | T14: 0 | U14: 0 | V14: 0 | W14: 0 | X14: 0 | Y14: 0
A15: =A14+1 -> 46034 | B15: 0 | C15: 0 | D15: 0 | E15: 0 | F15: 0 | G15: 0 | H15: 0 | I15: 0.348 | J15: 3.14 | K15: 4.923 | L15: 4.871 | M15: 4.584 | N15: 4.107 | O15: 4.113 | P15: 4.5 | Q15: 3.292 | R15: 0.605 | S15: 0.001 | T15: 0 | U15: 0 | V15: 0 | W15: 0 | X15: 0 | Y15: 0
A16: =A15+1 -> 46035 | B16: 0 | C16: 0 | D16: 0 | E16: 0 | F16: 0 | G16: 0 | H16: 0.001 | I16: 0.186 | J16: 0.937 | K16: 1.887 | L16: 2.356 | M16: 3.588 | N16: 3.263 | O16: 3.243 | P16: 3.499 | Q16: 1.634 | R16: 0.258 | S16: 0 | T16: 0 | U16: 0 | V16: 0 | W16: 0 | X16: 0 | Y16: 0
... A246: =A245+1 -> 46265 | B246: 0 | C246: 0 | D246: 0 | E246: 0 | F246: 0 | G246: 0 | H246: 0.137 | I246: 1.803 | J246: 3.514 | K246: 3.428 | L246: 3.38 | M246: 3.412 | N246: 3.995 | O246: 5.055 | P246: 4.595 | Q246: 2.666 | R246: 1.195 | S246: 1.185 | T246: 0.677 | U246: 0.018 | V246: 0 | W246: 0 | X246: 0 | Y246: 0
A247: =A246+1 -> 46266
A248: =A247+1 -> 46267
A249: =A248+1 -> 46268
A250: =A249+1 -> 46269
A251: =A250+1 -> 46270
A252: =A251+1 -> 46271
A253: =A252+1 -> 46272
A254: =A253+1 -> 46273
A255: =A254+1 -> 46274
A256: =A255+1 -> 46275
A257: =A256+1 -> 46276
A258: =A257+1 -> 46277
... A368: =A367+1 -> 46387

Sheet 5. FNO Gross
A1: 5. FNO Gross | G1: This is the aggregate of FNO (tab 5a) + FNO Impacted Gen (tab 5b)
A3: End Date | B3: 1 | C3: 2 | D3: 3 | E3: 4 | F3: 5 | G3: 6 | H3: 7 | I3: 8 | J3: 9 | K3: 10 | L3: 11 | M3: 12 | N3: 13 | O3: 14 | P3: 15 | Q3: 16 | R3: 17 | S3: 18 | T3: 19 | U3: 20 | V3: 21 | W3: 22 | X3: 23 | Y3: 24 | Z3: 25
A4: ='3.Total System Load Calc'!B6 -> 46023 | B4: ='5a. FNO'!B4+'5b. FNO Impacted Gen'!B4 -> 9.9775947 | C4: ='5a. FNO'!C4+'5b. FNO Impacted Gen'!C4 -> 9.680502 | D4: ='5a. FNO'!D4+'5b. FNO Impacted Gen'!D4 -> 9.5044642 | E4: ='5a. FNO'!E4+'5b. FNO Impacted Gen'!E4 -> 9.457849 | F4: ='5a. FNO'!F4+'5b. FNO Impacted Gen'!F4 -> 9.6833784 | G4: ='5a. FNO'!G4+'5b. FNO Impacted Gen'!G4 -> 9.8850214 | H4: ='5a. FNO'!H4+'5b. FNO Impacted Gen'!H4 -> 10.516101 | I4: ='5a. FNO'!I4+'5b. FNO Impacted Gen'!I4 -> 10.986021 | ... Z4: ='5a. FNO'!Z4+'5b. FNO Impacted Gen'!Z4 -> 0
A5: =A4+1 -> 46024 | B5: ='5a. FNO'!B5+'5b. FNO Impacted Gen'!B5 -> 9.024426 | C5: ='5a. FNO'!C5+'5b. FNO Impacted Gen'!C5 -> 9.0317508 | D5: ='5a. FNO'!D5+'5b. FNO Impacted Gen'!D5 -> 9.0317348 | E5: ='5a. FNO'!E5+'5b. FNO Impacted Gen'!E5 -> 9.13953 | F5: ='5a. FNO'!F5+'5b. FNO Impacted Gen'!F5 -> 9.3934465 | G5: ='5a. FNO'!G5+'5b. FNO Impacted Gen'!G5 -> 9.8530065 | H5: ='5a. FNO'!H5+'5b. FNO Impacted Gen'!H5 -> 10.605937 | I5: ='5a. FNO'!I5+'5b. FNO Impacted Gen'!I5 -> 11.011865 | ... Z5: ='5a. FNO'!Z5+'5b. FNO Impacted Gen'!Z5 -> 0
A6: =A5+1 -> 46025 | B6: ='5a. FNO'!B6+'5b. FNO Impacted Gen'!B6 -> 9.5084309 | C6: ='5a. FNO'!C6+'5b. FNO Impacted Gen'!C6 -> 9.3965104 | D6: ='5a. FNO'!D6+'5b. FNO Impacted Gen'!D6 -> 9.3674412 | E6: ='5a. FNO'!E6+'5b. FNO Impacted Gen'!E6 -> 9.5579428 | F6: ='5a. FNO'!F6+'5b. FNO Impacted Gen'!F6 -> 9.7805077 | G6: ='5a. FNO'!G6+'5b. FNO Impacted Gen'!G6 -> 10.213879 | H6: ='5a. FNO'!H6+'5b. FNO Impacted Gen'!H6 -> 10.933192 | I6: ='5a. FNO'!I6+'5b. FNO Impacted Gen'!I6 -> 11.338076 | ... Z6: ='5a. FNO'!Z6+'5b. FNO Impacted Gen'!Z6 -> 0
A7: =A6+1 -> 46026 | B7: ='5a. FNO'!B7+'5b. FNO Impacted Gen'!B7 -> 8.8832387 | C7: ='5a. FNO'!C7+'5b. FNO Impacted Gen'!C7 -> 8.6538846 | D7: ='5a. FNO'!D7+'5b. FNO Impacted Gen'!D7 -> 8.5664392 | E7: ='5a. FNO'!E7+'5b. FNO Impacted Gen'!E7 -> 8.719549 | F7: ='5a. FNO'!F7+'5b. FNO Impacted Gen'!F7 -> 8.8671052 | G7: ='5a. FNO'!G7+'5b. FNO Impacted Gen'!G7 -> 9.2578496 | H7: ='5a. FNO'!H7+'5b. FNO Impacted Gen'!H7 -> 9.9733416 | I7: ='5a. FNO'!I7+'5b. FNO Impacted Gen'!I7 -> 10.568012 | ... Z7: ='5a. FNO'!Z7+'5b. FNO Impacted Gen'!Z7 -> 0
A8: =A7+1 -> 46027 | B8: ='5a. FNO'!B8+'5b. FNO Impacted Gen'!B8 -> 8.6332551 | C8: ='5a. FNO'!C8+'5b. FNO Impacted Gen'!C8 -> 8.5672722 | D8: ='5a. FNO'!D8+'5b. FNO Impacted Gen'!D8 -> 8.6321234 | E8: ='5a. FNO'!E8+'5b. FNO Impacted Gen'!E8 -> 8.8004781 | F8: ='5a. FNO'!F8+'5b. FNO Impacted Gen'!F8 -> 9.2355144 | G8: ='5a. FNO'!G8+'5b. FNO Impacted Gen'!G8 -> 10.072882 | H8: ='5a. FNO'!H8+'5b. FNO Impacted Gen'!H8 -> 11.316093 | I8: ='5a. FNO'!I8+'5b. FNO Impacted Gen'!I8 -> 11.40967 | ... Z8: ='5a. FNO'!Z8+'5b. FNO Impacted Gen'!Z8 -> 0
A9: =A8+1 -> 46028 | B9: ='5a. FNO'!B9+'5b. FNO Impacted Gen'!B9 -> 9.373369 | C9: ='5a. FNO'!C9+'5b. FNO Impacted Gen'!C9 -> 9.2932391 | D9: ='5a. FNO'!D9+'5b. FNO Impacted Gen'!D9 -> 9.4177709 | E9: ='5a. FNO'!E9+'5b. FNO Impacted Gen'!E9 -> 9.5369945 | F9: ='5a. FNO'!F9+'5b. FNO Impacted Gen'!F9 -> 9.9108143 | G9: ='5a. FNO'!G9+'5b. FNO Impacted Gen'!G9 -> 10.558477 | H9: ='5a. FNO'!H9+'5b. FNO Impacted Gen'!H9 -> 11.421093 | I9: ='5a. FNO'!I9+'5b. FNO Impacted Gen'!I9 -> 11.726159 | ... Z9: ='5a. FNO'!Z9+'5b. FNO Impacted Gen'!Z9 -> 0
A10: =A9+1 -> 46029 | B10: ='5a. FNO'!B10+'5b. FNO Impacted Gen'!B10 -> 9.5938082 | C10: ='5a. FNO'!C10+'5b. FNO Impacted Gen'!C10 -> 9.4944064 | D10: ='5a. FNO'!D10+'5b. FNO Impacted Gen'!D10 -> 9.3932154 | E10: ='5a. FNO'!E10+'5b. FNO Impacted Gen'!E10 -> 9.5426077 | F10: ='5a. FNO'!F10+'5b. FNO Impacted Gen'!F10 -> 9.7938093 | G10: ='5a. FNO'!G10+'5b. FNO Impacted Gen'!G10 -> 10.324864 | H10: ='5a. FNO'!H10+'5b. FNO Impacted Gen'!H10 -> 11.250914 | I10: ='5a. FNO'!I10+'5b. FNO Impacted Gen'!I10 -> 11.645325 | ... Z10: ='5a. FNO'!Z10+'5b. FNO Impacted Gen'!Z10 -> 0
A11: =A10+1 -> 46030 | B11: ='5a. FNO'!B11+'5b. FNO Impacted Gen'!B11 -> 8.8580456 | C11: ='5a. FNO'!C11+'5b. FNO Impacted Gen'!C11 -> 8.7470518 | D11: ='5a. FNO'!D11+'5b. FNO Impacted Gen'!D11 -> 8.6703808 | E11: ='5a. FNO'!E11+'5b. FNO Impacted Gen'!E11 -> 8.670259 | F11: ='5a. FNO'!F11+'5b. FNO Impacted Gen'!F11 -> 8.969431 | G11: ='5a. FNO'!G11+'5b. FNO Impacted Gen'!G11 -> 9.5720943 | H11: ='5a. FNO'!H11+'5b. FNO Impacted Gen'!H11 -> 10.485777 | I11: ='5a. FNO'!I11+'5b. FNO Impacted Gen'!I11 -> 10.918664 | ... Z11: ='5a. FNO'!Z11+'5b. FNO Impacted Gen'!Z11 -> 0
A12: =A11+1 -> 46031 | B12: ='5a. FNO'!B12+'5b. FNO Impacted Gen'!B12 -> 9.8989246 | C12: ='5a. FNO'!C12+'5b. FNO Impacted Gen'!C12 -> 9.8141804 | D12: ='5a. FNO'!D12+'5b. FNO Impacted Gen'!D12 -> 9.6610092 | E12: ='5a. FNO'!E12+'5b. FNO Impacted Gen'!E12 -> 9.8475366 | F12: ='5a. FNO'!F12+'5b. FNO Impacted Gen'!F12 -> 10.06869 | G12: ='5a. FNO'!G12+'5b. FNO Impacted Gen'!G12 -> 10.740957 | H12: ='5a. FNO'!H12+'5b. FNO Impacted Gen'!H12 -> 11.723553 | I12: ='5a. FNO'!I12+'5b. FNO Impacted Gen'!I12 -> 12.265293 | ... Z12: ='5a. FNO'!Z12+'5b. FNO Impacted Gen'!Z12 -> 0
A13: =A12+1 -> 46032 | B13: ='5a. FNO'!B13+'5b. FNO Impacted Gen'!B13 -> 12.465808 | C13: ='5a. FNO'!C13+'5b. FNO Impacted Gen'!C13 -> 12.368577 | D13: ='5a. FNO'!D13+'5b. FNO Impacted Gen'!D13 -> 12.396681 | E13: ='5a. FNO'!E13+'5b. FNO Impacted Gen'!E13 -> 12.394259 | F13: ='5a. FNO'!F13+'5b. FNO Impacted Gen'!F13 -> 12.522192 | G13: ='5a. FNO'!G13+'5b. FNO Impacted Gen'!G13 -> 13.012756 | H13: ='5a. FNO'!H13+'5b. FNO Impacted Gen'!H13 -> 13.779518 | I13: ='5a. FNO'!I13+'5b. FNO Impacted Gen'!I13 -> 14.211281 | ... Z13: ='5a. FNO'!Z13+'5b. FNO Impacted Gen'!Z13 -> 0
A14: =A13+1 -> 46033 | B14: ='5a. FNO'!B14+'5b. FNO Impacted Gen'!B14 -> 11.75508 | C14: ='5a. FNO'!C14+'5b. FNO Impacted Gen'!C14 -> 11.638252 | D14: ='5a. FNO'!D14+'5b. FNO Impacted Gen'!D14 -> 11.599511 | E14: ='5a. FNO'!E14+'5b. FNO Impacted Gen'!E14 -> 11.662146 | F14: ='5a. FNO'!F14+'5b. FNO Impacted Gen'!F14 -> 11.893267 | G14: ='5a. FNO'!G14+'5b. FNO Impacted Gen'!G14 -> 12.252462 | H14: ='5a. FNO'!H14+'5b. FNO Impacted Gen'!H14 -> 13.07927 | I14: ='5a. FNO'!I14+'5b. FNO Impacted Gen'!I14 -> 13.510962 | ... Z14: ='5a. FNO'!Z14+'5b. FNO Impacted Gen'!Z14 -> 0
A15: =A14+1 -> 46034 | B15: ='5a. FNO'!B15+'5b. FNO Impacted Gen'!B15 -> 10.651911 | C15: ='5a. FNO'!C15+'5b. FNO Impacted Gen'!C15 -> 10.60936 | D15: ='5a. FNO'!D15+'5b. FNO Impacted Gen'!D15 -> 10.589761 | E15: ='5a. FNO'!E15+'5b. FNO Impacted Gen'!E15 -> 10.783148 | F15: ='5a. FNO'!F15+'5b. FNO Impacted Gen'!F15 -> 11.157912 | G15: ='5a. FNO'!G15+'5b. FNO Impacted Gen'!G15 -> 11.772337 | H15: ='5a. FNO'!H15+'5b. FNO Impacted Gen'!H15 -> 12.612752 | I15: ='5a. FNO'!I15+'5b. FNO Impacted Gen'!I15 -> 12.929308 | ... Z15: ='5a. FNO'!Z15+'5b. FNO Impacted Gen'!Z15 -> 0
A16: =A15+1 -> 46035 | B16: ='5a. FNO'!B16+'5b. FNO Impacted Gen'!B16 -> 9.5096693 | C16: ='5a. FNO'!C16+'5b. FNO Impacted Gen'!C16 -> 9.4398042 | D16: ='5a. FNO'!D16+'5b. FNO Impacted Gen'!D16 -> 9.4529568 | E16: ='5a. FNO'!E16+'5b. FNO Impacted Gen'!E16 -> 9.562242 | F16: ='5a. FNO'!F16+'5b. FNO Impacted Gen'!F16 -> 10.075361 | G16: ='5a. FNO'!G16+'5b. FNO Impacted Gen'!G16 -> 10.589984 | H16: ='5a. FNO'!H16+'5b. FNO Impacted Gen'!H16 -> 11.403044 | I16: ='5a. FNO'!I16+'5b. FNO Impacted Gen'!I16 -> 11.801621 | ... Z16: ='5a. FNO'!Z16+'5b. FNO Impacted Gen'!Z16 -> 0
... A368: =A367+1 -> 46387 | B368: ='5a. FNO'!B368+'5b. FNO Impacted Gen'!B368 -> 0 | C368: ='5a. FNO'!C368+'5b. FNO Impacted Gen'!C368 -> 0 | D368: ='5a. FNO'!D368+'5b. FNO Impacted Gen'!D368 -> 0 | E368: ='5a. FNO'!E368+'5b. FNO Impacted Gen'!E368 -> 0 | F368: ='5a. FNO'!F368+'5b. FNO Impacted Gen'!F368 -> 0 | G368: ='5a. FNO'!G368+'5b. FNO Impacted Gen'!G368 -> 0 | H368: ='5a. FNO'!H368+'5b. FNO Impacted Gen'!H368 -> 0 | I368: ='5a. FNO'!I368+'5b. FNO Impacted Gen'!I368 -> 0 | ... Z368: ='5a. FNO'!Z368+'5b. FNO Impacted Gen'!Z368 -> 0

Sheet 5a. FNO
A1: 5a. FNO | F1: PowerOptix > Meter Data Detail View > NITS LOADS - ALL CUSTOMERS
A3: End Date | B3: 1 | C3: 2 | D3: 3 | E3: 4 | F3: 5 | G3: 6 | H3: 7 | I3: 8 | J3: 9 | K3: 10 | L3: 11 | M3: 12 | N3: 13 | O3: 14 | P3: 15 | Q3: 16 | R3: 17 | S3: 18 | T3: 19 | U3: 20 | V3: 21 | W3: 22 | X3: 23 | Y3: 24 | Z3: 25
A4: ='3.Total System Load Calc'!B6 -> 46023 | B4: 9.9775947 | C4: 9.680502 | D4: 9.5044642 | E4: 9.457849 | F4: 9.6833784 | G4: 9.8850214 | H4: 10.516101 | I4: 10.986021 | J4: 11.376646 | K4: 11.336059 | L4: 10.917903 | M4: 10.494652 | N4: 10.221696 | O4: 10.123942 | P4: 9.9697875 | Q4: 10.322689 | R4: 10.974283 | S4: 11.693161 | T4: 11.27624 | U4: 10.866098 | V4: 10.284046 | W4: 9.7528015 | X4: 9.6766673 | Y4: 9.2846147 | Z4: 0
A5: =A4+1 -> 46024 | B5: 9.024426 | C5: 9.0317508 | D5: 9.0317348 | E5: 9.13953 | F5: 9.3934465 | G5: 9.8530065 | H5: 10.605937 | I5: 11.011865 | J5: 10.724816 | K5: 10.094122 | L5: 9.6166146 | M5: 9.4241793 | N5: 8.9042833 | O5: 8.7365126 | P5: 8.7245786 | Q5: 9.0068245 | R5: 9.9165725 | S5: 11.013456 | T5: 10.935987 | U5: 10.699718 | V5: 10.4664 | W5: 10.252331 | X5: 10.113528 | Y5: 9.7885555 | Z5: 0
A6: =A5+1 -> 46025 | B6: 9.5084309 | C6: 9.3965104 | D6: 9.3674412 | E6: 9.5579428 | F6: 9.7805077 | G6: 10.213879 | H6: 10.933192 | I6: 11.338076 | J6: 11.174986 | K6: 10.303009 | L6: 9.6540832 | M6: 8.6945998 | N6: 8.0379765 | O6: 7.7588135 | P6: 7.7685062 | Q6: 8.2808666 | R6: 9.4913917 | S6: 10.605112 | T6: 10.47955 | U6: 10.440243 | V6: 10.177362 | W6: 9.8396251 | X6: 9.5251038 | Y6: 9.166138 | Z6: 0
A7: =A6+1 -> 46026 | B7: 8.8832387 | C7: 8.6538846 | D7: 8.5664392 | E7: 8.719549 | F7: 8.8671052 | G7: 9.2578496 | H7: 9.9733416 | I7: 10.568012 | J7: 10.365815 | K7: 9.6607519 | L7: 8.8697727 | M7: 8.5055144 | N7: 8.3476028 | O7: 8.1703837 | P7: 8.0544537 | Q7: 8.4796198 | R7: 9.3930521 | S7: 10.379036 | T7: 10.390313 | U7: 10.154564 | V7: 9.868009 | W7: 9.3604899 | X7: 9.1516789 | Y7: 8.809226 | Z7: 0
A8: =A7+1 -> 46027 | B8: 8.6332551 | C8: 8.5672722 | D8: 8.6321234 | E8: 8.8004781 | F8: 9.2355144 | G8: 10.072882 | H8: 11.316093 | I8: 11.40967 | J8: 10.641323 | K8: 10.082328 | L8: 9.5854237 | M8: 9.509455 | N8: 8.9162848 | O8: 8.7884736 | P8: 8.7455786 | Q8: 9.1613426 | R8: 10.080177 | S8: 11.155092 | T8: 11.026474 | U8: 10.881695 | V8: 10.565953 | W8: 10.1028 | X8: 10.122768 | Y8: 9.6294421 | Z8: 0
A9: =A8+1 -> 46028 | B9: 9.373369 | C9: 9.2932391 | D9: 9.4177709 | E9: 9.5369945 | F9: 9.9108143 | G9: 10.558477 | H9: 11.421093 | I9: 11.726159 | J9: 11.07705 | K9: 10.1023 | L9: 9.4031937 | M9: 8.7801663 | N9: 8.3758264 | O9: 8.194394 | P9: 8.3611388 | Q9: 8.7312603 | R9: 9.8564692 | S9: 11.061662 | T9: 11.140011 | U9: 10.939288 | V9: 10.731386 | W9: 10.423199 | X9: 10.276455 | Y9: 9.7815872 | Z9: 0
A10: =A9+1 -> 46029 | B10: 9.5938082 | C10: 9.4944064 | D10: 9.3932154 | E10: 9.5426077 | F10: 9.7938093 | G10: 10.324864 | H10: 11.250914 | I10: 11.645325 | J10: 11.073412 | K10: 10.242481 | L10: 9.4291282 | M10: 8.854947 | N10: 8.3720308 | O10: 8.1237246 | P10: 8.234117 | Q10: 8.6334702 | R10: 9.5790747 | S10: 10.766648 | T10: 10.790147 | U10: 10.672537 | V10: 10.430767 | W10: 9.884031 | X10: 9.5263318 | Y10: 9.1716263 | Z10: 0
A11: =A10+1 -> 46030 | B11: 8.8580456 | C11: 8.7470518 | D11: 8.6703808 | E11: 8.670259 | F11: 8.969431 | G11: 9.5720943 | H11: 10.485777 | I11: 10.918664 | J11: 10.779205 | K11: 10.463065 | L11: 9.9694347 | M11: 9.5225544 | N11: 9.4535855 | O11: 9.5288417 | P11: 9.644697 | Q11: 10.037954 | R11: 10.776789 | S11: 11.689118 | T11: 11.742989 | U11: 11.657101 | V11: 11.311769 | W11: 10.945941 | X11: 10.795467 | Y11: 10.177493 | Z11: 0
A12: =A11+1 -> 46031 | B12: 9.8989246 | C12: 9.8141804 | D12: 9.6610092 | E12: 9.8475366 | F12: 10.06869 | G12: 10.740957 | H12: 11.723553 | I12: 12.265293 | J12: 12.479801 | K12: 12.645694 | L12: 12.409452 | M12: 12.132342 | N12: 12.098938 | O12: 11.934978 | P12: 11.920464 | Q12: 12.287228 | R12: 12.978566 | S12: 13.909999 | T12: 13.634053 | U12: 13.291492 | V12: 13.005584 | W12: 12.822083 | X12: 13.136993 | Y12: 12.733975 | Z12: 0
A13: =A12+1 -> 46032 | B13: 12.465808 | C13: 12.368577 | D13: 12.396681 | E13: 12.394259 | F13: 12.522192 | G13: 13.012756 | H13: 13.779518 | I13: 14.211281 | J13: 13.99872 | K13: 13.504543 | L13: 13.036374 | M13: 12.390352 | N13: 11.738737 | O13: 11.239303 | P13: 10.970978 | Q13: 11.146246 | R13: 11.891148 | S13: 13.075139 | T13: 13.265451 | U13: 13.201251 | V13: 12.843304 | W13: 12.522604 | X13: 12.548954 | Y13: 12.060551 | Z13: 0
A14: =A13+1 -> 46033 | B14: 11.75508 | C14: 11.638252 | D14: 11.599511 | E14: 11.662146 | F14: 11.893267 | G14: 12.252462 | H14: 13.07927 | I14: 13.510962 | J14: 13.135896 | K14: 12.245366 | L14: 11.448461 | M14: 10.76559 | N14: 10.314937 | O14: 10.040985 | P14: 9.8382559 | Q14: 10.317109 | R14: 11.163951 | S14: 12.351524 | T14: 12.359206 | U14: 12.322953 | V14: 12.181859 | W14: 11.710351 | X14: 11.448112 | Y14: 10.879382 | Z14: 0
A15: =A14+1 -> 46034 | B15: 10.651911 | C15: 10.60936 | D15: 10.589761 | E15: 10.783148 | F15: 11.157912 | G15: 11.772337 | H15: 12.612752 | I15: 12.929308 | J15: 12.163828 | K15: 10.930045 | L15: 10.018498 | M15: 9.3414049 | N15: 8.7462452 | O15: 8.5003572 | P15: 8.397167 | Q15: 8.8223858 | R15: 9.6610015 | S15: 11.116424 | T15: 11.31291 | U15: 11.200851 | V15: 11.079849 | W15: 10.57325 | X15: 10.31126 | Y15: 9.7731702 | Z15: 0
A16: =A15+1 -> 46035 | B16: 9.5096693 | C16: 9.4398042 | D16: 9.4529568 | E16: 9.562242 | F16: 10.075361 | G16: 10.589984 | H16: 11.403044 | I16: 11.801621 | J16: 11.763378 | K16: 11.064535 | L16: 10.490727 | M16: 9.7304375 | N16: 9.0785294 | O16: 8.858756 | P16: 8.6711601 | Q16: 9.1151804 | R16: 10.080873 | S16: 11.183587 | T16: 11.186102 | U16: 10.964486 | V16: 10.759895 | W16: 10.268993 | X16: 10.053105 | Y16: 9.6300861 | Z16: 0
... A69: =A68+1 -> 46088 | B69: 10.074528 | C69: 9.984426 | D69: 9.9742813 | E69: 10.190436 | F69: 10.478578 | G69: 10.937018 | H69: 11.510474 | I69: 11.508357 | J69: 10.82502 | K69: 10.419508 | L69: 9.6438588 | M69: 9.1468507 | N69: 8.6874496 | O69: 8.2388191 | P69: 8.0115239 | Q69: 8.1989308 | R69: 8.7683582 | S69: 9.6620917 | T69: 10.377386 | U69: 10.307228 | V69: 10.162773 | W69: 9.6611231 | X69: 9.8007769 | Y69: 9.6654066 | Z69: 0
A70: =A69+1 -> 46089 | B70: 9.5928024 | D70: 9.5568757 | E70: 9.6191443 | F70: 9.751429 | G70: 9.9935629 | H70: 10.564588 | I70: 10.911823 | J70: 10.849715 | K70: 9.9953209 | L70: 9.0302879 | M70: 8.4189108 | N70: 7.9120208 | O70: 7.5191052 | P70: 7.306236 | Q70: 6.8779989 | R70: 7.7466683 | S70: 8.2730407 | T70: 8.9329128 | U70: 9.3838908 | V70: 9.2737358 | W70: 8.8634185 | X70: 8.6247778 | Y70: 8.2028449 | Z70: 0
A71: =A70+1 -> 46090 | B71: 8.0257606 | C71: 8.0121494 | D71: 8.0947607 | E71: 8.2825363 | F71: 8.7001444 | G71: 9.2275913 | H71: 10.063997 | I71: 10.619593 | J71: 10.467174 | K71: 9.7613173 | L71: 8.8865609 | M71: 8.4247107 | N71: 8.0606595 | O71: 7.8735887 | P71: 7.7259458 | Q71: 7.1449431 | R71: 7.3755819 | S71: 8.0893648 | T71: 8.6243032 | U71: 8.9371929 | V71: 8.8720204 | W71: 8.5498986 | X71: 8.1521225 | Y71: 7.7194664 | Z71: 0
A72: =A71+1 -> 46091 | B72: 7.5768359 | C72: 7.6021832 | D72: 7.6552411 | E72: 7.7203448 | F72: 7.9366653 | G72: 8.8418604 | H72: 10.01305 | I72: 10.350559 | J72: 10.332209 | K72: 9.7730628 | L72: 8.8956845 | M72: 8.3791096 | N72: 7.8550483 | O72: 7.4458158 | P72: 7.5041512 | Q72: 7.4318644 | R72: 7.5974713 | S72: 8.2553741 | T72: 8.6255118 | U72: 9.1467611 | V72: 9.0146319 | W72: 8.3052113 | X72: 7.9729889 | Y72: 7.6363294 | Z72: 0
A73: =A72+1 -> 46092 | B73: 7.5029064 | C73: 7.3778375 | D73: 7.5375304 | E73: 7.7340288 | F73: 8.1069161 | G73: 8.9125652 | H73: 10.358238 | I73: 10.852072 | J73: 10.660079 | K73: 10.065349 | L73: 9.3568825 | M73: 9.0402459 | N73: 8.6158801 | O73: 8.0985343 | P73: 7.8092926 | Q73: 7.6085374 | R73: 7.6877832 | S73: 8.1037057 | T73: 8.7886592 | U73: 9.9256003 | V73: 9.9525659 | W73: 9.7996654 | X73: 9.7816603 | Y73: 9.4077255 | Z73: 0
A74: =A73+1 -> 46093 | B74: 9.3277842 | C74: 9.2037242 | D74: 9.1722577 | E74: 9.2976413 | F74: 9.6511462 | G74: 10.476121 | H74: 11.40563 | I74: 11.633607 | J74: 11.152369 | K74: 10.340203 | L74: 9.5544173 | M74: 8.7142527 | N74: 8.4541769 | O74: 8.0370882 | P74: 7.9241106 | Q74: 7.9540743 | R74: 7.8359812 | S74: 8.236904 | T74: 8.7207213 | U74: 9.239077 | V74: 9.0492246 | W74: 8.6938056 | X74: 8.3801296 | Y74: 8.0473091 | Z74: 0
A75: =A74+1 -> 46094 | B75: 7.8697915 | C75: 7.8436895 | D75: 7.899278 | E75: 8.0016407 | F75: 8.2627172 | G75: 8.978111 | H75: 10.032327 | I75: 10.52289 | J75: 10.640807 | K75: 9.9732849 | L75: 9.1646181 | M75: 8.5854208 | N75: 7.956857 | O75: 7.7652224 | P75: 7.7060473 | Q75: 7.7172554 | R75: 7.7050722 | S75: 8.0535673 | T75: 8.4984928 | U75: 9.0160615 | V75: 9.0517877 | W75: 8.7331058 | X75: 8.498501 | Y75: 8.1831032 | Z75: 0
A76: =A75+1 -> 46095 | B76: 7.9777343 | C76: 7.9043645 | D76: 7.9867416 | E76: 8.0867496 | F76: 8.213935 | G76: 8.619179 | H76: 9.2052085 | I76: 9.5173331 | J76: 9.2204503 | K76: 8.6413267 | L76: 8.1317593 | M76: 7.9072957 | N76: 7.543218 | O76: 7.1871823 | P76: 6.9646502 | Q76: 7.2773977 | R76: 7.9129227 | S76: 8.4997131 | T76: 8.8776137 | U76: 9.1159208 | V76: 9.0126523 | W76: 8.5742218 | X76: 8.2499029 | Y76: 7.8658087 | Z76: 0
A77: =A76+1 -> 46096 | B77: 7.6957238 | C77: 7.586057 | D77: 7.6872685 | E77: 7.8340281 | F77: 8.0741479 | G77: 8.4752979 | H77: 9.2067147 | I77: 9.8138791 | J77: 10.23774 | K77: 10.056886 | L77: 9.2833823 | M77: 9.0846695 | N77: 8.7671904 | O77: 8.5885973 | P77: 8.4780409 | Q77: 8.601335 | R77: 9.1029396 | S77: 9.9094691 | T77: 10.353275 | U77: 11.114112 | V77: 11.411765 | W77: 11.08246 | X77: 11.203448 | Y77: 10.901604 | Z77: 0
A78: =A77+1 -> 46097 | B78: 10.772245 | C78: 10.769467 | D78: 10.834006 | E78: 11.117943 | F78: 11.368157 | G78: 11.779144 | H78: 12.459316 | I78: 12.669955 | J78: 12.680209 | K78: 12.180825 | L78: 11.396271 | M78: 10.770384 | N78: 9.7138049 | O78: 9.4523951 | P78: 9.1075975 | Q78: 9.0073263 | R78: 8.6019047 | S78: 8.8662139 | T78: 9.5174197 | U78: 10.218069 | V78: 10.26338 | W78: 9.9797047 | X78: 9.5735922 | Y78: 9.0589888 | Z78: 0
A79: =A78+1 -> 46098 | B79: 8.9486888 | C79: 8.909831 | D79: 9.0360061 | E79: 9.0392075 | F79: 9.4854509 | G79: 10.261022 | H79: 11.174707 | I79: 11.553218 | J79: 10.720793 | K79: 9.8677822 | L79: 9.1182702 | M79: 8.5938627 | N79: 8.1133842 | O79: 7.9448612 | P79: 7.8700224 | Q79: 7.8302804 | R79: 8.0772467 | S79: 8.3407062 | T79: 8.657587 | U79: 8.9588785 | V79: 8.9303355 | W79: 8.5068794 | X79: 8.0218895 | Y79: 7.6173534 | Z79: 0
A80: =A79+1 -> 46099 | B80: 7.5734542 | C80: 7.5002553 | D80: 7.5920856 | E80: 7.6911549 | F80: 7.9611234 | G80: 8.4906619 | H80: 9.7683382 | I80: 10.289773 | J80: 9.8147906 | K80: 9.2144177 | L80: 8.484162 | M80: 8.0047089 | N80: 7.7803237 | O80: 7.5373534 | P80: 7.426606 | Q80: 7.6268876 | R80: 7.797003 | S80: 8.1972323 | T80: 8.7749023 | U80: 8.8666555 | V80: 8.7429786 | W80: 8.2805616 | X80: 7.7821486 | Y80: 7.3842509 | Z80: 0
A81: =A80+1 -> 46100 | B81: 7.2858833 | C81: 7.1501481 | D81: 7.1479834 | E81: 7.311736 | F81: 7.6076831 | G81: 8.180023 | H81: 9.3354497 | I81: 9.780425 | J81: 9.3352313 | K81: 8.6472191 | L81: 8.2037459 | M81: 7.8293748 | N81: 7.7199212 | O81: 7.6471285 | P81: 7.7628297 | Q81: 7.8222437 | R81: 7.8092341 | S81: 8.4770334 | T81: 8.7562051 | U81: 8.7334174 | V81: 8.6516729 | W81: 8.2048874 | X81: 7.6528955 | Y81: 7.161118 | Z81: 0
A82: =A81+1 -> 46101 | B82: 6.9910183 | C82: 6.9157372 | D82: 6.8723253 | E82: 6.9402943 | F82: 7.1504028 | G82: 7.8417383 | H82: 8.8524698 | I82: 9.4065232 | J82: 9.1661826 | K82: 8.7189338 | L82: 8.2041173 | M82: 8.0110896 | N82: 8.0436996 | O82: 8.0345034 | P82: 8.1300347 | Q82: 8.5200118 | R82: 8.8187249 | S82: 8.9520451 | T82: 9.2344645 | U82: 9.1371798 | V82: 8.8304008 | W82: 8.3864693 | X82: 7.7828464 | Y82: 7.2494704 | Z82: 0
... A246: =A245+1 -> 46265 | B246: 7.7059205 | C246: 7.3711615 | D246: 7.2400438 | E246: 7.2122603 | F246: 7.3153151 | G246: 7.641291 | H246: 8.4654788 | I246: 9.0951643 | J246: 9.5473785 | K246: 9.9147171 | L246: 10.356556 | M246: 10.752905 | N246: 10.88974 | O246: 11.07954 | P246: 11.462588 | Q246: 12.074154 | R246: 11.470867 | S246: 10.696165 | T246: 10.567059 | U246: 10.185753 | V246: 9.8547399 | W246: 9.216389 | X246: 8.5394413 | Y246: 7.8322208 | Z246: 0
A247: =A246+1 -> 46266 | Z247: 0
A248: =A247+1 -> 46267 | Z248: 0
A249: =A248+1 -> 46268 | Z249: 0
A250: =A249+1 -> 46269 | Z250: 0
A251: =A250+1 -> 46270 | Z251: 0
A252: =A251+1 -> 46271 | Z252: 0
A253: =A252+1 -> 46272 | Z253: 0
A254: =A253+1 -> 46273 | Z254: 0
A255: =A254+1 -> 46274 | Z255: 0
A256: =A255+1 -> 46275 | Z256: 0
A257: =A256+1 -> 46276 | Z257: 0
A258: =A257+1 -> 46277 | Z258: 0
... A368: =A367+1 -> 46387 | Z368: 0

Sheet 5b. FNO Impacted Gen
A1: 5b. FNO Impacted Gen
A3: End Date | B3: 1 | C3: 2 | D3: 3 | E3: 4 | F3: 5 | G3: 6 | H3: 7 | I3: 8 | J3: 9 | K3: 10 | L3: 11 | M3: 12 | N3: 13 | O3: 14 | P3: 15 | Q3: 16 | R3: 17 | S3: 18 | T3: 19 | U3: 20 | V3: 21 | W3: 22 | X3: 23 | Y3: 24 | Z3: 25
A4: ='3.Total System Load Calc'!B6 -> 46023
A5: =A4+1 -> 46024
A6: =A5+1 -> 46025
A7: =A6+1 -> 46026
A8: =A7+1 -> 46027
A9: =A8+1 -> 46028
A10: =A9+1 -> 46029
A11: =A10+1 -> 46030
A12: =A11+1 -> 46031
A13: =A12+1 -> 46032
A14: =A13+1 -> 46033
A15: =A14+1 -> 46034
A16: =A15+1 -> 46035
... A368: =A367+1 -> 46387

Sheet 6. LT PTP Usage
A1: 6. LT PTP Usage | E1: Reports > Black Hills Reports > TSR Actuals > LT PTP for Monthly Peak Workpaper
A3: End Date | B3: 1 | C3: 2 | D3: 3 | E3: 4 | F3: 5 | G3: 6 | H3: 7 | I3: 8 | J3: 9 | K3: 10 | L3: 11 | M3: 12 | N3: 13 | O3: 14 | P3: 15 | Q3: 16 | R3: 17 | S3: 18 | T3: 19 | U3: 20 | V3: 21 | W3: 22 | X3: 23 | Y3: 24 | Z3: 25
A4: ='3.Total System Load Calc'!B6 -> 46023 | B4: 0 | C4: 0 | D4: 0 | E4: 0 | F4: 1 | G4: 1 | H4: 1 | I4: 1 | J4: 0 | K4: 0 | L4: 0 | M4: 0 | N4: 0 | O4: 0 | P4: 0 | Q4: 0 | R4: 1 | S4: 1 | T4: 1 | U4: 1 | V4: 0 | W4: 0 | X4: 0 | Y4: 0
A5: =A4+1 -> 46024 | B5: 0 | C5: 0 | D5: 0 | E5: 0 | F5: 2 | G5: 2 | H5: 2 | I5: 2 | J5: 1 | K5: 0 | L5: 0 | M5: 1 | N5: 1 | O5: 1 | P5: 0 | Q5: 0 | R5: 2 | S5: 2 | T5: 2 | U5: 2 | V5: 0 | W5: 0 | X5: 0 | Y5: 0
A6: =A5+1 -> 46025 | B6: 0 | C6: 0 | D6: 0 | E6: 0 | F6: 1 | G6: 1 | H6: 1 | I6: 1 | J6: 0 | K6: 0 | L6: 0 | M6: 0 | N6: 0 | O6: 0 | P6: 0 | Q6: 0 | R6: 0 | S6: 1 | T6: 1 | U6: 1 | V6: 0 | W6: 0 | X6: 0 | Y6: 0
A7: =A6+1 -> 46026 | B7: 0 | C7: 0 | D7: 0 | E7: 0 | F7: 1 | G7: 1 | H7: 1 | I7: 1 | J7: 0 | K7: 0 | L7: 0 | M7: 0 | N7: 0 | O7: 0 | P7: 0 | Q7: 0 | R7: 0 | S7: 1 | T7: 1 | U7: 1 | V7: 0 | W7: 0 | X7: 0 | Y7: 0
A8: =A7+1 -> 46027 | B8: 0 | C8: 0 | D8: 0 | E8: 0 | F8: 2 | G8: 2 | H8: 2 | I8: 2 | J8: 1 | K8: 0 | L8: 0 | M8: 1 | N8: 1 | O8: 1 | P8: 0 | Q8: 0 | R8: 2 | S8: 2 | T8: 2 | U8: 2 | V8: 0 | W8: 0 | X8: 0 | Y8: 0
A9: =A8+1 -> 46028 | B9: 0 | C9: 0 | D9: 0 | E9: 0 | F9: 2 | G9: 2 | H9: 2 | I9: 2 | J9: 1 | K9: 0 | L9: 0 | M9: 1 | N9: 1 | O9: 1 | P9: 0 | Q9: 0 | R9: 2 | S9: 2 | T9: 2 | U9: 2 | V9: 0 | W9: 0 | X9: 0 | Y9: 0
A10: =A9+1 -> 46029 | B10: 0 | C10: 0 | D10: 0 | E10: 0 | F10: 2 | G10: 2 | H10: 2 | I10: 2 | J10: 0 | K10: 0 | L10: 0 | M10: 1 | N10: 1 | O10: 1 | P10: 0 | Q10: 0 | R10: 2 | S10: 2 | T10: 2 | U10: 2 | V10: 0 | W10: 0 | X10: 0 | Y10: 0
A11: =A10+1 -> 46030 | B11: 0 | C11: 0 | D11: 0 | E11: 0 | F11: 2 | G11: 2 | H11: 2 | I11: 2 | J11: 1 | K11: 0 | L11: 0 | M11: 1 | N11: 1 | O11: 1 | P11: 0 | Q11: 0 | R11: 2 | S11: 2 | T11: 2 | U11: 2 | V11: 0 | W11: 0 | X11: 0 | Y11: 0
A12: =A11+1 -> 46031 | B12: 0 | C12: 0 | D12: 0 | E12: 0 | F12: 2 | G12: 2 | H12: 2 | I12: 2 | J12: 1 | K12: 0 | L12: 0 | M12: 1 | N12: 1 | O12: 1 | P12: 0 | Q12: 0 | R12: 2 | S12: 2 | T12: 2 | U12: 2 | V12: 0 | W12: 0 | X12: 0 | Y12: 0
A13: =A12+1 -> 46032 | B13: 0 | C13: 0 | D13: 0 | E13: 0 | F13: 1 | G13: 1 | H13: 1 | I13: 1 | J13: 0 | K13: 0 | L13: 0 | M13: 0 | N13: 0 | O13: 0 | P13: 0 | Q13: 0 | R13: 0 | S13: 1 | T13: 1 | U13: 1 | V13: 0 | W13: 0 | X13: 0 | Y13: 0
A14: =A13+1 -> 46033 | B14: 0 | C14: 0 | D14: 0 | E14: 0 | F14: 1 | G14: 1 | H14: 1 | I14: 1 | J14: 0 | K14: 0 | L14: 0 | M14: 0 | N14: 0 | O14: 0 | P14: 0 | Q14: 0 | R14: 0 | S14: 1 | T14: 1 | U14: 1 | V14: 0 | W14: 0 | X14: 0 | Y14: 0
A15: =A14+1 -> 46034 | B15: 0 | C15: 0 | D15: 0 | E15: 0 | F15: 2 | G15: 2 | H15: 2 | I15: 2 | J15: 1 | K15: 0 | L15: 0 | M15: 1 | N15: 1 | O15: 1 | P15: 0 | Q15: 0 | R15: 2 | S15: 2 | T15: 2 | U15: 2 | V15: 0 | W15: 0 | X15: 0 | Y15: 0
A16: =A15+1 -> 46035 | B16: 0 | C16: 0 | D16: 0 | E16: 0 | F16: 2 | G16: 2 | H16: 2 | I16: 2 | J16: 1 | K16: 0 | L16: 0 | M16: 1 | N16: 1 | O16: 1 | P16: 0 | Q16: 0 | R16: 0 | S16: 2 | T16: 2 | U16: 2 | V16: 0 | W16: 0 | X16: 0 | Y16: 0
... A246: =A245+1 -> 46265 | B246: 0 | C246: 1 | D246: 1 | E246: 1 | F246: 1 | G246: 1 | H246: 1 | I246: 1 | J246: 1 | K246: 0 | L246: 1 | M246: 0 | N246: 0 | O246: 0 | P246: 1 | Q246: 1 | R246: 1 | S246: 1 | T246: 1 | U246: 1 | V246: 1 | W246: 1 | X246: 0 | Y246: 0
A247: =A246+1 -> 46266
A248: =A247+1 -> 46267
A249: =A248+1 -> 46268
A250: =A249+1 -> 46269
A251: =A250+1 -> 46270
A252: =A251+1 -> 46271
A253: =A252+1 -> 46272
A254: =A253+1 -> 46273
A255: =A254+1 -> 46274
A256: =A255+1 -> 46275
A257: =A256+1 -> 46276
A258: =A257+1 -> 46277
... A368: =A367+1 -> 46387
